BEGIN:VCALENDAR
VERSION:2.0
PRODID:-//Uit in Arnhem - ECPv5.0.0.2//NONSGML v1.0//EN
CALSCALE:GREGORIAN
METHOD:PUBLISH
X-WR-CALNAME:Uit in Arnhem
X-ORIGINAL-URL:https://www.uitinarnhem.nl
X-WR-CALDESC:Events for Uit in Arnhem
BEGIN:VTIMEZONE
TZID:Europe/Amsterdam
BEGIN:DAYLIGHT
TZOFFSETFROM:+0100
TZOFFSETTO:+0200
TZNAME:CEST
DTSTART:20240331T010000
END:DAYLIGHT
BEGIN:STANDARD
TZOFFSETFROM:+0200
TZOFFSETTO:+0100
TZNAME:CET
DTSTART:20241027T010000
END:STANDARD
END:VTIMEZONE
BEGIN:VEVENT
DTSTART;TZID=Europe/Amsterdam:20240914T120000
DTEND;TZID=Europe/Amsterdam:20240914T160000
DTSTAMP:20260421T085505
CREATED:20240909T092659Z
LAST-MODIFIED:20240909T092659Z
UID:10595-1726315200-1726329600@www.uitinarnhem.nl
SUMMARY:Open Dag cursusaanbod Rozet
DESCRIPTION:Op zaterdag 14 september organiseren vijf cursusaanbieders van amateurkunst een gezamenlijke Open Dag in Rozet. \nDocenten van Kunstmakerij\, De Muziekmakerij\, FotoCollege\, Klassiek Ballet Marie-Chantal en De Vloer school voor podiumkunsten zetten die dag tussen 12.00 en 16.00 uur letterlijk de deuren van hun leslokaal open. Kom eens een openbare repetitie of een proefles meemaken. Of misschien word je liever op de foto gezet? \nEr is van alles te doen\, want ook The Big Draw Festival vindt die dag plaats. Amateur-dansers en -acteurs geven korte voorstellingen of een voorproefje van activiteiten in het nieuwe seizoen. Genoeg keuze voor iedereen. \nDe Open Dag is dus de beste (én gratis!) manier om uit te vissen welke cursus\, welke les of welk instrument jou het meeste aanspreekt. Kom je meedoen\, meezingen\, meedansen\, meeschrijven en mee tekenen? Je bent van harte welkom! \n  \n
URL:https://www.uitinarnhem.nl/agenda/open-dag-cursusaanbod-rozet/
LOCATION:Rozet\, Kortestraat 16\, Arnhem\, 6811EP\, Nederland
CATEGORIES:Actief,Informatief & Verrijking,Kindvriendelijk,Overig
ATTACH;FMTTYPE=image/jpeg:https://www.uitinarnhem.nl/wp-content/uploads/2024/09/WhatsApp-Image-2023-09-11-at-11.49.19-4-2.jpeg
END:VEVENT
END:VCALENDAR