BEGIN:VCALENDAR
VERSION:2.0
PRODID:-//Uit in Arnhem - ECPv5.0.0.2//NONSGML v1.0//EN
CALSCALE:GREGORIAN
METHOD:PUBLISH
X-WR-CALNAME:Uit in Arnhem
X-ORIGINAL-URL:https://www.uitinarnhem.nl
X-WR-CALDESC:Events for Uit in Arnhem
BEGIN:VTIMEZONE
TZID:Europe/Amsterdam
BEGIN:DAYLIGHT
TZOFFSETFROM:+0100
TZOFFSETTO:+0200
TZNAME:CEST
DTSTART:20240331T010000
END:DAYLIGHT
BEGIN:STANDARD
TZOFFSETFROM:+0200
TZOFFSETTO:+0100
TZNAME:CET
DTSTART:20241027T010000
END:STANDARD
END:VTIMEZONE
BEGIN:VEVENT
DTSTART;TZID=Europe/Amsterdam:20240915T100000
DTEND;TZID=Europe/Amsterdam:20240915T150000
DTSTAMP:20260421T085721
CREATED:20240902T165834Z
LAST-MODIFIED:20240902T165834Z
UID:10569-1726394400-1726412400@www.uitinarnhem.nl
SUMMARY:Oogstfeest bij De Buitenplaats in Schuytgraaf
DESCRIPTION:Ieder jaar organiseert Hoogstambrigade Schuytgraaf het Oogstfeest bij De Buitenplaats. Tijdens dit feest kun je zien hoe de appels en peren van de fruitbomen uit Schuytgraaf geperst worden via de mobiele oogstpers. De lang houdbare sap die hier uit komt in vormen van 3 liter en 5 liter\, kan je op de dag zelf gelijk kopen. \nVoor de kinderen zijn er ook een aantal leuke activiteiten om te doen\, waaronder:\nZelf appels of peren plukken in de boomgaard bij De Buitenplaats.\nZelf je eigen sap maken met een handpers.\nMaal je eigen meel.\nJe laten schminken. \nEen gezellig feestje dus\, voor jong en oud. Met een hapje en een drankje. \n
URL:https://www.uitinarnhem.nl/agenda/oogstfeest-bij-de-buitenplaats-in-schuytgraaf/
LOCATION:De Buitenplaats\, Marasingel 19\, Arnhem\, Nederland
CATEGORIES:Actief,Informatief & Verrijking,Kindvriendelijk,Markt
ATTACH;FMTTYPE=image/jpeg:https://www.uitinarnhem.nl/wp-content/uploads/2024/09/378121615_1036692180879618_3136770759614491569_n.jpg
END:VEVENT
END:VCALENDAR