BEGIN:VCALENDAR
VERSION:2.0
PRODID:-//Uit in Arnhem - ECPv5.0.0.2//NONSGML v1.0//EN
CALSCALE:GREGORIAN
METHOD:PUBLISH
X-WR-CALNAME:Uit in Arnhem
X-ORIGINAL-URL:https://www.uitinarnhem.nl
X-WR-CALDESC:Events for Uit in Arnhem
BEGIN:VTIMEZONE
TZID:Europe/Amsterdam
BEGIN:DAYLIGHT
TZOFFSETFROM:+0100
TZOFFSETTO:+0200
TZNAME:CEST
DTSTART:20250330T010000
END:DAYLIGHT
BEGIN:STANDARD
TZOFFSETFROM:+0200
TZOFFSETTO:+0100
TZNAME:CET
DTSTART:20251026T010000
END:STANDARD
END:VTIMEZONE
BEGIN:VEVENT
DTSTART;TZID=Europe/Amsterdam:20250909T140000
DTEND;TZID=Europe/Amsterdam:20250909T190000
DTSTAMP:20260423T100420
CREATED:20250826T181530Z
LAST-MODIFIED:20250826T181530Z
UID:13597-1757426400-1757444400@www.uitinarnhem.nl
SUMMARY:Ondernemers Event Arnhem in Musis
DESCRIPTION:Op 9 september vindt het gratis Ondernemers Event Arnhem plaats voor alle Arnhemse ondernemers. Bent u ZZP’er of MKB’er? Iedereen die onderneemt in Arnhem is welkom. Registratie is gratis. \nOp dinsdag 9 september van 14.00 uur tot 19.00 uur vindt de tweede editie van het Ondernemers Event Arnhem plaats in Musis. Deze editie draait om het thema ‘Toekomst’. De sprekers en bezoekers kijken samen vooruit en bespreken hoe om te gaan met veranderende omstandigheden. \nDe gastsprekers\, waaronder Jacco Vonhof\, voorzitter van MKB Nederland\, behandelen actuele onderwerpen en ontwikkelingen op lokaal\, nationaal en internationaal niveau. Ook kunt u zich weer apart aanmelden voor interactieve sessies op het gebied van persoonlijke groei\, AI voor het MKB en duurzaam ondernemen. Let op: vol = vol. Aanmelden voor het gratis event en de sessies kan via www.ondernemerseventarnhem.nl. \nWie wint de prestigieuze titel ‘Beste Arnhemse onderneming van 2025’? \nTijdens het Ondernemers Event Arnhem wordt de Beste Arnhemse onderneming van 2025 bekend gemaakt uit een van de drie genomineerden: Barefoot & More\, Sportcentrum & Hotel Papendal en VillaVibes singlereizen. \n  \n
URL:https://www.uitinarnhem.nl/agenda/ondernemers-event-arnhem-in-musis/
LOCATION:Musis\, Velperbinnensingel 15\, Arnhem\, 6811BP\, Nederland
CATEGORIES:Informatief & Verrijking,Overig
ATTACH;FMTTYPE=image/jpeg:https://www.uitinarnhem.nl/wp-content/uploads/2025/08/d06397c7-a474-4fa0-ae7b-22fa49e3b042_thumb1024.jpg
END:VEVENT
END:VCALENDAR