BEGIN:VCALENDAR
VERSION:2.0
PRODID:-//Uit in Arnhem - ECPv5.0.0.2//NONSGML v1.0//EN
CALSCALE:GREGORIAN
METHOD:PUBLISH
X-WR-CALNAME:Uit in Arnhem
X-ORIGINAL-URL:https://www.uitinarnhem.nl
X-WR-CALDESC:Events for Uit in Arnhem
BEGIN:VTIMEZONE
TZID:Europe/Amsterdam
BEGIN:DAYLIGHT
TZOFFSETFROM:+0100
TZOFFSETTO:+0200
TZNAME:CEST
DTSTART:20260329T010000
END:DAYLIGHT
BEGIN:STANDARD
TZOFFSETFROM:+0200
TZOFFSETTO:+0100
TZNAME:CET
DTSTART:20261025T010000
END:STANDARD
END:VTIMEZONE
BEGIN:VEVENT
DTSTART;TZID=Europe/Amsterdam:20260123T200000
DTEND;TZID=Europe/Amsterdam:20260124T020000
DTSTAMP:20260421T015038
CREATED:20260116T181504Z
LAST-MODIFIED:20260116T181504Z
UID:13960-1769198400-1769220000@www.uitinarnhem.nl
SUMMARY:Nachtmahr in Willemeen
DESCRIPTION:IGNIS het beruchte gemaskerde bal waar kink\, goth\, dark burlesque en queer energie samensmelten\, sluit zich speciaal voor ʍ ɨ ϟ Γ aan met een betoverende line-up. Verwacht hun signatuur: zinderende sensualiteit\, rauw spektakel en theatrale magie die de nacht openbreekt. IGNIS brengt de vonk\, ʍ ɨ ϟ Γ ontbrandt. Samen zetten ze de nacht in vuur en vlam. \nNachtmahr\nNachtmahr is altijd een controversiële band geweest\, maar eigenlijk schuilt er meer provocatie in de inhoud dan in de vorm. Hun concerten zijn voor sommigen te expliciet of te shockerend\, maar zijn vooral bedoeld om in de toeschouwer een intern conflict te veroorzaken. De benen willen dansen\, maar het brein wil denken. Zodra de pompende beats stoppen\, realiseren de bezoekers dat er een intelligente boodschap te vinden is in de teksten en op de schermen achteraan op het podium. \nDe band heeft al verschillende albums en singles uitgebracht\, maar heeft niet de intentie op hun keizerlijke lauweren te rusten. Eind 2024 hebben ze met ‘Verboten’ een nieuw album uitgebracht. Er klinkt een duidelijke boodschap aan het adres van allen die autoritaire regimes willen installeren die zowel het plezier van een levensstijl vol excessen en de intellectuele voldoening van het onafhankelijk denken willen verbieden. Verwerp uw valse Grote Leiders. Er is slechts één Tanzdiktator! \nmet: DJ Vleertje en acts van Izzy Lilura\, Mariken Shibari\, Soror\, Mary Hootchie. \nWat is ʍ ɨ ϟ Γ:\nʍ ɨ ϟ Γ is een nieuw initiatief vanuit Willemeen met als doel om de donkere kanten van dance muziek aandacht te geven en te ontdekken. Denk aan dark wave\, new wave\, witch house\, EBM\, industrial\, ethereal wave\, goth\, doomcore etc. Deze avond een exclusieve show van Nachtmahr uit Duitsland. DJ Vleertje zal het verder muzikaal aan en uitkleden. \nWat is IGNIS:\nIGNIS – het ultieme gemaskerde bal dat je stoutste dromen overtreft. IGNIS combineert kink\, goth\, dark burlesque en queer vibes in een sensuele\, theatrale en onvergetelijke nacht. Of je nu een ervaren kinkster bent\, een liefhebber van dark burlesque\, of gewoon op zoek bent naar een unieke en inclusieve nacht uit. IGNIS biedt voor elk wat wils. Queer Inclusivity IGNIS omarmt diversiteit. Het is een veilige plek voor zelfexpressie\, waar je je ware zelf kunt zijn en deel kunt uitmaken van een gemeenschap die liefde en respect hoog in het vaandel draagt. Koop dus snel je tickets! \nDresscode:\nWillemeen moedigt extravagante en sexy kleding aan. Laat de kleding die je in de supermarkt draagt thuis en kies een outfit die jouw duistere schoonheid en unieke stijl weerspiegelt. Dit is een 18+ event. \nVoor meer info en tickets kijk op: https://www.willemeen.nl/programma/nachtmahr-at-exclusive-nl-show/ \n
URL:https://www.uitinarnhem.nl/agenda/nachtmahr-in-willemeen/
LOCATION:Willemeen\, Willemsplein 1\, Arnhem\, 6811 KA\, Nederland
CATEGORIES:Muziek,Overig
ATTACH;FMTTYPE=image/jpeg:https://www.uitinarnhem.nl/wp-content/uploads/2026/01/2026011620735-8098-700x875-1.jpg
END:VEVENT
END:VCALENDAR