BEGIN:VCALENDAR
VERSION:2.0
PRODID:-//Uit in Arnhem - ECPv5.0.0.2//NONSGML v1.0//EN
CALSCALE:GREGORIAN
METHOD:PUBLISH
X-WR-CALNAME:Uit in Arnhem
X-ORIGINAL-URL:https://www.uitinarnhem.nl
X-WR-CALDESC:Events for Uit in Arnhem
BEGIN:VTIMEZONE
TZID:Europe/Amsterdam
BEGIN:DAYLIGHT
TZOFFSETFROM:+0100
TZOFFSETTO:+0200
TZNAME:CEST
DTSTART:20210328T010000
END:DAYLIGHT
BEGIN:STANDARD
TZOFFSETFROM:+0200
TZOFFSETTO:+0100
TZNAME:CET
DTSTART:20211031T010000
END:STANDARD
END:VTIMEZONE
BEGIN:VEVENT
DTSTART;TZID=Europe/Amsterdam:20211021T193000
DTEND;TZID=Europe/Amsterdam:20211031T170000
DTSTAMP:20260421T041020
CREATED:20211011T093822Z
LAST-MODIFIED:20211011T094357Z
UID:7237-1634844600-1635699600@www.uitinarnhem.nl
SUMMARY:Muziektheatergroep BOT in Club Rembrandt
DESCRIPTION:Filmische voorstelling in voormalige bioscoop\nMuziektheatergroep Bot zorgt twee weekenden in oktober voor een filmisch avontuur in voormalige bioscoop Rembrandt. ‘Het geluid van cinema’ is de titel van hun voorstelling. Na veertien eerdere locatievoorstellingen onder de titel ‘Het Geluid van’ maakt BOT onder regie van Vincent van den Elshout en in samenwerking met cinematografisch kunstenaar Jonas de Witte een voorstelling met alles erop en eraan. Rembrandt is één van de markantste uitgaansgelegenheden die Arnhem ooit rijk was. Met een geschiedenis die teruggaat naar 1911 vertegenwoordigt de Rembrandteen eeuw lang film in Gelderland. Met de Filmweek Arnhem herbergde het monumentale pand jarenlang een internationaal filmfestival dat de stad eens per jaar omtoverde tot het ‘Cannes aan de Rijn’. Zo kende de eerste Star Wars-film hier haar Europese première\, in het bijzijn van alle hoofdrolspelers.\nIn 2016 vielen de projectoren definitief stil. Tot nu. In een eenmalige reeks maakt BOT ter plekke een voorstelling in deze cinema. Een zeer bijzonder avondje uit. En natuurlijk ligt de rode loper klaar. Gepaste kledij wordt aanbevolen. \nInfo en tickets: https://wijzijnbot.nl/voorstellingen/het-geluid-van/het-geluid-van-cinema/ \n
URL:https://www.uitinarnhem.nl/agenda/muziektheatergroep-bot-in-club-rembrandt/
LOCATION:Rembrandt Theater\, Velperplein 10\, Arnhem
CATEGORIES:Film,Theater
ATTACH;FMTTYPE=image/jpeg:https://www.uitinarnhem.nl/wp-content/uploads/2021/10/BOT-Home-e1500972065206.jpg
END:VEVENT
END:VCALENDAR