BEGIN:VCALENDAR
VERSION:2.0
PRODID:-//Uit in Arnhem - ECPv5.0.0.2//NONSGML v1.0//EN
CALSCALE:GREGORIAN
METHOD:PUBLISH
X-WR-CALNAME:Uit in Arnhem
X-ORIGINAL-URL:https://www.uitinarnhem.nl
X-WR-CALDESC:Events for Uit in Arnhem
BEGIN:VTIMEZONE
TZID:Europe/Amsterdam
BEGIN:DAYLIGHT
TZOFFSETFROM:+0100
TZOFFSETTO:+0200
TZNAME:CEST
DTSTART:20250330T010000
END:DAYLIGHT
BEGIN:STANDARD
TZOFFSETFROM:+0200
TZOFFSETTO:+0100
TZNAME:CET
DTSTART:20251026T010000
END:STANDARD
END:VTIMEZONE
BEGIN:VEVENT
DTSTART;TZID=Europe/Amsterdam:20250406T140000
DTEND;TZID=Europe/Amsterdam:20250412T180000
DTSTAMP:20260421T072130
CREATED:20250330T141632Z
LAST-MODIFIED:20250330T141632Z
UID:12687-1743948000-1744480800@www.uitinarnhem.nl
SUMMARY:Muziekmakerij Ensembleweek op 3 locaties
DESCRIPTION:Ensemble = samen. Samen spelen en zingen is misschien nog wel leuker dan solo. Daarom organiseert De Muziekmakerij in de week van 6 t/m 12 april maar liefst 12 concerten op 3 Arnhemse locaties: Rozet\, Café Kroon en Bar Nelson.  \nTijdens de Ensembleweek laten zowel jonge als volwassen leerlingen\, samen met hun docenten\, hun talenten horen in verrassende bezettingen. Van duo’s en trio’s tot grotere ensembles: het plezier van samen spelen en zingen staat voorop. \nSamen muziek maken = dubbel plezier!\nIedereen is welkom om te komen luisteren en te genieten van een breed scala aan muziekstijlen. Komt dat zien\, komt dat horen; bij Rozet\, Café Kroon en Bar Nelson! Gratis entree! \nHet volledige programma is te vinden op demuziekmakerij.nl/ensembleweek-2025 \n
URL:https://www.uitinarnhem.nl/agenda/muziekmakerij-ensembleweek-op-3-locaties/
LOCATION:Rozet\, Kortestraat 16\, Arnhem\, 6811EP\, Nederland
CATEGORIES:Kindvriendelijk,Muziek
ATTACH;FMTTYPE=image/jpeg:https://www.uitinarnhem.nl/wp-content/uploads/2025/03/image001.jpg
END:VEVENT
END:VCALENDAR