BEGIN:VCALENDAR
VERSION:2.0
PRODID:-//Uit in Arnhem - ECPv5.0.0.2//NONSGML v1.0//EN
CALSCALE:GREGORIAN
METHOD:PUBLISH
X-WR-CALNAME:Uit in Arnhem
X-ORIGINAL-URL:https://www.uitinarnhem.nl
X-WR-CALDESC:Events for Uit in Arnhem
BEGIN:VTIMEZONE
TZID:Europe/Amsterdam
BEGIN:DAYLIGHT
TZOFFSETFROM:+0100
TZOFFSETTO:+0200
TZNAME:CEST
DTSTART:20250330T010000
END:DAYLIGHT
BEGIN:STANDARD
TZOFFSETFROM:+0200
TZOFFSETTO:+0100
TZNAME:CET
DTSTART:20251026T010000
END:STANDARD
END:VTIMEZONE
BEGIN:VEVENT
DTSTART;TZID=Europe/Amsterdam:20250927T193000
DTEND;TZID=Europe/Amsterdam:20250927T233000
DTSTAMP:20260421T065924
CREATED:20250909T180051Z
LAST-MODIFIED:20250909T180051Z
UID:13641-1759001400-1759015800@www.uitinarnhem.nl
SUMMARY:Muziek voor Unisos in Sem Café Velp
DESCRIPTION:Een fijne avond muziek in Sem Café in Velp! \nAlle artiesten treden deze avond vrijwillig op en Sem Café stelt de zaal kosteloos ter beschikking. De gehele opbrengst van de kaartverkoop gaat dus naar het goede doel: Stichting Unisos. \nUnisos is een organisatie die zich inzet voor kinderen met een beperking in en na crisissituaties en in het bijzonder het opzetten van een kindertehuis in het aardbevingsgebied in Turkije\, waar de nood nog steeds hoog is. \nMeer informatie en kaartverkoop via de QR of https://www.ticketkantoor.nl/shop/muziekvoorunisos \n
URL:https://www.uitinarnhem.nl/agenda/muziek-voor-unisos-in-sem-cafe-velp/
LOCATION:Sem Café\, Ommershofselaan 14\, Velp\, Nederland
CATEGORIES:Muziek,Overig
ATTACH;FMTTYPE=image/jpeg:https://www.uitinarnhem.nl/wp-content/uploads/2025/09/image0.jpeg
END:VEVENT
END:VCALENDAR