BEGIN:VCALENDAR
VERSION:2.0
PRODID:-//Uit in Arnhem - ECPv5.0.0.2//NONSGML v1.0//EN
CALSCALE:GREGORIAN
METHOD:PUBLISH
X-WR-CALNAME:Uit in Arnhem
X-ORIGINAL-URL:https://www.uitinarnhem.nl
X-WR-CALDESC:Events for Uit in Arnhem
BEGIN:VTIMEZONE
TZID:Europe/Amsterdam
BEGIN:DAYLIGHT
TZOFFSETFROM:+0100
TZOFFSETTO:+0200
TZNAME:CEST
DTSTART:20210328T010000
END:DAYLIGHT
BEGIN:STANDARD
TZOFFSETFROM:+0200
TZOFFSETTO:+0100
TZNAME:CET
DTSTART:20211031T010000
END:STANDARD
END:VTIMEZONE
BEGIN:VEVENT
DTSTART;TZID=Europe/Amsterdam:20210801T140000
DTEND;TZID=Europe/Amsterdam:20210801T150000
DTSTAMP:20260423T082508
CREATED:20210728T185448Z
LAST-MODIFIED:20210730T094419Z
UID:6709-1627826400-1627830000@www.uitinarnhem.nl
SUMMARY:Muziek van Magnolia in Tuin de Lage Oorsprong
DESCRIPTION:De prachtige Tuin de Lage Oorsprong in Oosterbeek is op zondag 1 augustus het decor voor twee concerten van Magnolia. Dit trio wordt gevormd door Aniek\, Eva en Lisa. Ze hebben alle drie hun sporen verdiend in de muziekwereld\, zowel nationaal als internationaal. Hun muziek beweegt zich tussen de genres folk en americana. Magnolia zingt en speelt covers\, maar brengt ook eigen repertoire. Het trio geeft zondag twee concerten: om 14.00 uur het eerste\, om 15.30 het tweede. \nTickets & en info over deze voorstelling: https://shop.ikbenaanwezig.nl/kiosk/Tuin-de-Lage-Oorsprong \n
URL:https://www.uitinarnhem.nl/agenda/muziek-van-magnolia-in-tuin-de-lage-oorsprong/
LOCATION:Tuin de Lage Oorsprong\, Van Borsselenweg 36\, Oosterbeek
CATEGORIES:Muziek
ATTACH;FMTTYPE=image/jpeg:https://www.uitinarnhem.nl/wp-content/uploads/2021/07/Magnolia.jpg
ORGANIZER;CN="Tuin%20de%20Lage%20Oorsprong%2C%20Oosterbeek":MAILTO:info@tuindelageoorsprong.nl
END:VEVENT
END:VCALENDAR