BEGIN:VCALENDAR
VERSION:2.0
PRODID:-//Uit in Arnhem - ECPv5.0.0.2//NONSGML v1.0//EN
CALSCALE:GREGORIAN
METHOD:PUBLISH
X-WR-CALNAME:Uit in Arnhem
X-ORIGINAL-URL:https://www.uitinarnhem.nl
X-WR-CALDESC:Events for Uit in Arnhem
BEGIN:VTIMEZONE
TZID:Europe/Amsterdam
BEGIN:DAYLIGHT
TZOFFSETFROM:+0100
TZOFFSETTO:+0200
TZNAME:CEST
DTSTART:20230326T010000
END:DAYLIGHT
BEGIN:STANDARD
TZOFFSETFROM:+0200
TZOFFSETTO:+0100
TZNAME:CET
DTSTART:20231029T010000
END:STANDARD
BEGIN:DAYLIGHT
TZOFFSETFROM:+0100
TZOFFSETTO:+0200
TZNAME:CEST
DTSTART:20240331T010000
END:DAYLIGHT
BEGIN:STANDARD
TZOFFSETFROM:+0200
TZOFFSETTO:+0100
TZNAME:CET
DTSTART:20241027T010000
END:STANDARD
END:VTIMEZONE
BEGIN:VEVENT
DTSTART;VALUE=DATE:20231105
DTEND;VALUE=DATE:20240415
DTSTAMP:20260421T013139
CREATED:20240305T105158Z
LAST-MODIFIED:20240305T122922Z
UID:8227-1699142400-1713139199@www.uitinarnhem.nl
SUMMARY:Museum Arnhem: Kunst in het derde rijk
DESCRIPTION:\n\n\nMet de tentoonstelling Kunst in het derde rijk – Verleiding en afleiding reflecteert Museum Arnhem op de kunst uit de periode van het ‘derde rijk’\, 1933-1945. Hoe ziet deze kunst eruit? Waarom was er tijdens het naziregime\, bekend om zijn politieke geweld\, oorlog en de Holocaust\, zoveel aandacht voor de hedendaagse kunst? Steunden de kunstenaars het regime\, steunde het regime de kunstenaars\, of beide?  \n\n\n\n\n\n\n\n\n\n\n\nKunst in het derde rijk biedt een overzicht van schilder- en beeldhouwkunst onder het naziregime in Duitsland. Vooral kunst uit de periode 1937-1944\, die werd tentoongesteld op de jaarlijkse Große Deutsche Kunstausstellung in München\, is te zien. Deze tentoonstellingen werden door de staat georganiseerd. Hier kwamen enorme aantallen mensen op af. Er werd in deze periode werk van duizenden kunstenaars getoond\, dat qua stijl en onderwerp voldeed aan de denkbeelden van de nationaalsocialisten. Deze kunstwerken werden op grote schaal getoond en aangekocht door burgers\, de staat en haar nazileiders. Daar profiteerden de deelnemende kunstenaars flink van. Maar ook de staat profiteerde: kunst vormde een afleiding van de misdadige praktijken van de nazi’s en een succesvol verleidingsmiddel voor hun ideologie. Hoe ver gingen de nazi’s in het controleren van de kunstwereld? \nKunst in het derde rijk presenteert zo’n negentig schilder- en beeldhouwwerken van kunstenaars als Claus Bergen\, Paul Mathias Padua\, Ria Picco-Rückert\, Adolf Reich\, Ivo Saliger\, Josef Thorak\, Else Wex-Cleemann\, Adolf Wissel en Adolf Ziegler. Het meeste werk is na 1944 (bijna) niet meer tentoongesteld. Het is nu dus voor het eerst sinds 1944 dat deze vele verschillende kunstwerken samenkomen in één overzichtstentoonstelling en dat er door een kunstmuseum in Nederland op deze schaal aandacht wordt gegeven aan deze beladen periode in de Duitse kunstgeschiedenis. \n\n\n\n\n\n\n\n\n
URL:https://www.uitinarnhem.nl/agenda/museum-arnhem-kunst-in-het-derde-rijk/
LOCATION:Museum Arnhem\, Utrechtseweg 87\, Arnhem\, 6812 AA\, Nederland
ATTACH;FMTTYPE=image/png:https://www.uitinarnhem.nl/wp-content/uploads/2024/03/Museum-Arnhem-kunst-3e-rijk-Albert-Janesch-Wassersport-1936.png
END:VEVENT
END:VCALENDAR