BEGIN:VCALENDAR
VERSION:2.0
PRODID:-//Uit in Arnhem - ECPv5.0.0.2//NONSGML v1.0//EN
CALSCALE:GREGORIAN
METHOD:PUBLISH
X-WR-CALNAME:Uit in Arnhem
X-ORIGINAL-URL:https://www.uitinarnhem.nl
X-WR-CALDESC:Events for Uit in Arnhem
BEGIN:VTIMEZONE
TZID:Europe/Amsterdam
BEGIN:DAYLIGHT
TZOFFSETFROM:+0100
TZOFFSETTO:+0200
TZNAME:CEST
DTSTART:20200329T010000
END:DAYLIGHT
BEGIN:STANDARD
TZOFFSETFROM:+0200
TZOFFSETTO:+0100
TZNAME:CET
DTSTART:20201025T010000
END:STANDARD
END:VTIMEZONE
BEGIN:VEVENT
DTSTART;TZID=Europe/Amsterdam:20200909T201500
DTEND;TZID=Europe/Amsterdam:20200919T221500
DTSTAMP:20260421T015716
CREATED:20200630T095216Z
LAST-MODIFIED:20200818T094134Z
UID:5493-1599682500-1600553700@www.uitinarnhem.nl
SUMMARY:Meiden van LOS in Theater Het Hof Arnhem
DESCRIPTION:Meiden van LOS: Lusten en Lasten | Theater Het Hof in Arnhem  \nIn een ongekend tempo volgen liedjes en sketches elkaar op in deze goudeerlijke voorstelling over de keerzijde van de medaille.\nNatuurlijk willen de meiden wel de lusten\, maar niet de lasten. Het perfecte leven! Maar kan dat wel? Een wilde stap-avond zonder de kater\, een goede baan zonder de stress\, een kind zonder de zorgen\, een relatie zonder de ruzies\, de meiden kunnen nog wel even doorgaan\, en dat doen ze dan ook\, uitgebreid\, in deze voorstelling.\nIn Lusten en Lasten nemen de meiden geen blad voor de mond\, en fantaseren ze er lustig op los.\nLusten en Lasten is de vijfde voorstelling van de formatie LOS\, die bestaat uit Dookje Engelhard\, Kim de Fuijk\, Vivianne van den Boom en Femke Vernij. \nDeze voorstelling is een onderdeel van een reeks. Kijk op de website van Theater het Hof voor alle speeldata waarop nog kaarten beschikbaar zijn en reserveer jouw kaarten simpel  online. \n
URL:https://www.uitinarnhem.nl/agenda/meiden-van-los-in-theater-het-hof-arnhem/
LOCATION:Theater Het Hof\, Boekhorstenstraat 58\, Arnhem\, 6828DV
CATEGORIES:Theater
ATTACH;FMTTYPE=image/jpeg:https://www.uitinarnhem.nl/wp-content/uploads/2020/06/los-2.jpg
END:VEVENT
END:VCALENDAR