BEGIN:VCALENDAR
VERSION:2.0
PRODID:-//Uit in Arnhem - ECPv5.0.0.2//NONSGML v1.0//EN
CALSCALE:GREGORIAN
METHOD:PUBLISH
X-WR-CALNAME:Uit in Arnhem
X-ORIGINAL-URL:https://www.uitinarnhem.nl
X-WR-CALDESC:Events for Uit in Arnhem
BEGIN:VTIMEZONE
TZID:Europe/Amsterdam
BEGIN:DAYLIGHT
TZOFFSETFROM:+0100
TZOFFSETTO:+0200
TZNAME:CEST
DTSTART:20210328T010000
END:DAYLIGHT
BEGIN:STANDARD
TZOFFSETFROM:+0200
TZOFFSETTO:+0100
TZNAME:CET
DTSTART:20211031T010000
END:STANDARD
END:VTIMEZONE
BEGIN:VEVENT
DTSTART;TZID=Europe/Amsterdam:20211104T203000
DTEND;TZID=Europe/Amsterdam:20211105T223000
DTSTAMP:20260421T082845
CREATED:20211011T084159Z
LAST-MODIFIED:20211011T085256Z
UID:7221-1636057800-1636151400@www.uitinarnhem.nl
SUMMARY:Martijn Koning in Posttheater
DESCRIPTION:Martijn Koning lucht zijn hart in Koning van de Toekomst\nCorona was een ramp voor hem. Martijn Koning heeft het niet zo op gedwongen pauzes. Want die zijn voor stuiterbal Martijn iets totaal tegennatuurlijks. Hij probeerde het heus tijdens corona: stil staan\, stil zitten\, mond even dicht. Maar wat was dát moeilijk. Van schrik begon hij de Knorrepodcast\, niet alleen een succes\, maar ook een groot feest. Toch is hij dolblij dat hij weer op tournee gaat! Zijn hoofd staat nooit stil. Als een pinball-machine vuurt hij zijn grappen en zeer komische observaties op zijn publiek af. Hij heeft geheid de ‘hoogste grapdichtheid-garantie’; 80 minuten pure stand-up comedy in een adembenemend tempo. \nMartijn Koning | Posttheater \n
URL:https://www.uitinarnhem.nl/agenda/martijn-koning-in-posttheater/
LOCATION:Posttheater\, Rosendaalsestraat 27\, Arnhem\, 6824 CA\, Nederland
CATEGORIES:Theater
ATTACH;FMTTYPE=image/jpeg:https://www.uitinarnhem.nl/wp-content/uploads/2021/10/Martijn-Koning_Koning-van-de-toekomst_web.jpg
END:VEVENT
END:VCALENDAR