BEGIN:VCALENDAR
VERSION:2.0
PRODID:-//Uit in Arnhem - ECPv5.0.0.2//NONSGML v1.0//EN
CALSCALE:GREGORIAN
METHOD:PUBLISH
X-WR-CALNAME:Uit in Arnhem
X-ORIGINAL-URL:https://www.uitinarnhem.nl
X-WR-CALDESC:Events for Uit in Arnhem
BEGIN:VTIMEZONE
TZID:Europe/Amsterdam
BEGIN:DAYLIGHT
TZOFFSETFROM:+0100
TZOFFSETTO:+0200
TZNAME:CEST
DTSTART:20250330T010000
END:DAYLIGHT
BEGIN:STANDARD
TZOFFSETFROM:+0200
TZOFFSETTO:+0100
TZNAME:CET
DTSTART:20251026T010000
END:STANDARD
END:VTIMEZONE
BEGIN:VEVENT
DTSTART;TZID=Europe/Amsterdam:20250221T193000
DTEND;TZID=Europe/Amsterdam:20250221T220000
DTSTAMP:20260421T085442
CREATED:20250120T145240Z
LAST-MODIFIED:20250120T145240Z
UID:12317-1740166200-1740175200@www.uitinarnhem.nl
SUMMARY:Marlon Pichel in Luxor Live
DESCRIPTION:De zingende drummer Marlon Pichel manoeuvreert moeiteloos tussen de grenzen van verschillende genres\, maar heeft een vurige passie voor southern soul genre. Gewapend met een krachtige soulvolle stem en uitzonderlijke begaafdheid op drums is hij een van de meest veelbelovende talenten in de Nederlandse soul. \nMarlon Pichel\nPichel stond al vanaf 9-jarige leeftijd op het podium en deed in 2019 mee aan de Voice Of Holland. In 2023 verscheen zijn veelgeprezen debuutalbum Good Ol’ Loving. Ieder nummer is doordrenkt van invloeden uit de zuidelijke staten van Amerika. Geïnspireerd door soulgiganten als Otis Redding en Wilson Pickett\, maar altijd met Marlons unieke\, eigenzinnige sound die door elke noot heen sijpelt. Met zijn aanstekelijke glimlach en zijn zevenkoppige band komt hij naar Luxor Live voor een energieke show! \n
URL:https://www.uitinarnhem.nl/agenda/marlon-pichel-in-luxor-live/
LOCATION:Luxor Live\, Willemsplein 10\, Arnhem\, 6811KB\, Nederland
CATEGORIES:Muziek
ATTACH;FMTTYPE=image/jpeg:https://www.uitinarnhem.nl/wp-content/uploads/2025/01/Marlon-Pichel-web-1920x630-1.jpg
END:VEVENT
END:VCALENDAR