BEGIN:VCALENDAR
VERSION:2.0
PRODID:-//Uit in Arnhem - ECPv5.0.0.2//NONSGML v1.0//EN
CALSCALE:GREGORIAN
METHOD:PUBLISH
X-WR-CALNAME:Uit in Arnhem
X-ORIGINAL-URL:https://www.uitinarnhem.nl
X-WR-CALDESC:Events for Uit in Arnhem
BEGIN:VTIMEZONE
TZID:Europe/Amsterdam
BEGIN:DAYLIGHT
TZOFFSETFROM:+0100
TZOFFSETTO:+0200
TZNAME:CEST
DTSTART:20200329T010000
END:DAYLIGHT
BEGIN:STANDARD
TZOFFSETFROM:+0200
TZOFFSETTO:+0100
TZNAME:CET
DTSTART:20201025T010000
END:STANDARD
END:VTIMEZONE
BEGIN:VEVENT
DTSTART;TZID=Europe/Amsterdam:20201016T080000
DTEND;TZID=Europe/Amsterdam:20201101T220000
DTSTAMP:20260421T025331
CREATED:20200918T123616Z
LAST-MODIFIED:20201007T071832Z
UID:5911-1602835200-1604268000@www.uitinarnhem.nl
SUMMARY:GECANCELD - Magische Lichtshow 'De Grote Schijn' in Park Zypendaal
DESCRIPTION:– Helaas is het lichtspektakel gecanceld –  \nNa een uitverkochte editie vorig jaar in Rotterdam met meer dan 30.000 bezoekers komt De Grote Schijn weer naar Nederland. Dit najaar komt De Grote Schijn voor het eerst naar Park Zypendaal in Arnhem en is er een geheel nieuwe show te zien in het Kralingse Bos in Rotterdam. Van vrijdag 16 oktober tot en met zondag 1 november vormen beide locaties het natuurlijke decor voor een bijzondere wandeltocht door het donker\, waarbij alle zintuigen worden geprikkeld.  \nAudiovisueel spektakel\nArnhem en Rotterdam zijn dit najaar gastheer voor een zinnenprikkelende tocht door het donker. De Grote Schijn is een bijzondere avondwandeling voor jong en oud. Alsof het bos bevangen is door echte toverkracht wacht achter elke struik een nieuwe verrassing. Bomen lijken tot leven te komen\, paddenstoelen zijn weggeplukt uit een sprookje en krijgen een lichtgevende gloed. De natuur speelt de hoofdrol in een bijzonder audiovisueel spektakel en het bos en park worden gebruikt als natuurlijk decor\, waar bezoekers een lichtshow beleven die zorgt voor verwondering. \nEen uniek audiovisueel spektakel brengt een vernieuwend verhaal zonder woorden\, met innoverende snufjes en lumineuze emoties. Door middel van licht\, geluid en geuren gaan ogen\, oren en neuzen op avontuur. Er zijn geen sprookjeswezens of boze tovenaars die hun magie verspreiden en zo het bos tot leven wekken\, alles komt voort uit een sterk staaltje techniek. \nCoronaproof\nTijdens de herfstvakantie genieten bezoekers geheel volgens de door de overheid gestelde corona maatregelen van een uitgelichte herfstwandeling. Om wachtrijen bij de entree te voorkomen\, worden tickets op naam verkocht en wordt er gewerkt met tijdsloten. Je loopt deze wandeling samen met je eigen gezelschap en houdt 1\,5 meter afstand van andere bezoekers. Het is een unieke totaalbeleving voor elke bezoeker. Een stukje magie verborgen in de grote stad. \nTickets voor de lichtshow koop je hier: https://degroteschijn.nl/arnhem/ \n  \n  \n
URL:https://www.uitinarnhem.nl/agenda/magische-lichtshow-de-grote-schijn-in-park-zypendaal/
LOCATION:Park Zypendaal\, Kruising Parkweg / Zypendaalseweg\, Arnhem\, 6814CL
CATEGORIES:Festival,Kindvriendelijk,Overig,Tentoonstelling
ATTACH;FMTTYPE=image/jpeg:https://www.uitinarnhem.nl/wp-content/uploads/2020/09/500_de-grote-schijn-2019-11-andreas-terlaak.jpg
END:VEVENT
END:VCALENDAR