BEGIN:VCALENDAR
VERSION:2.0
PRODID:-//Uit in Arnhem - ECPv5.0.0.2//NONSGML v1.0//EN
CALSCALE:GREGORIAN
METHOD:PUBLISH
X-WR-CALNAME:Uit in Arnhem
X-ORIGINAL-URL:https://www.uitinarnhem.nl
X-WR-CALDESC:Events for Uit in Arnhem
BEGIN:VTIMEZONE
TZID:Europe/Amsterdam
BEGIN:DAYLIGHT
TZOFFSETFROM:+0100
TZOFFSETTO:+0200
TZNAME:CEST
DTSTART:20250330T010000
END:DAYLIGHT
BEGIN:STANDARD
TZOFFSETFROM:+0200
TZOFFSETTO:+0100
TZNAME:CET
DTSTART:20251026T010000
END:STANDARD
END:VTIMEZONE
BEGIN:VEVENT
DTSTART;TZID=Europe/Amsterdam:20250525T110000
DTEND;TZID=Europe/Amsterdam:20250525T150000
DTSTAMP:20260421T051551
CREATED:20250313T184150Z
LAST-MODIFIED:20250313T184150Z
UID:12619-1748170800-1748185200@www.uitinarnhem.nl
SUMMARY:Lovelife Run Arnhem op Sportpark Valkenhuizen
DESCRIPTION:Foto: Rijno Boon Photography \nDoe mee aan de LoveLife Run Arnhem op 25 mei 2025! Samen strijden we voor een toekomst waarin kanker geen dodelijke ziekte meer hoeft te zijn. \nArnhemmers\, dit is jullie kans om een verschil te maken! Loop mee tijdens de LoveLife Run en steun baanbrekend kankeronderzoek. Of je nu kiest voor 5 km of 10 km\, iedereen is welkom – ook wheelers en handbikers! \nDeelname is gratis. Dus doe mee of steun één of meerdere deelnemers met een bijdrage. Met de opbrengsten van LoveLife Run wordt onderzoek naar kanker gefinancierd. Dit gebeurt landelijk via Stichting Fight cancer\, maar ook lokaal. Zo blijft 10% van de geworven opbrengst achter in Arnhem bij het Rijnstate Ziekenhuis. Zij financieren hier een lokaal project/onderzoek mee. \nWanneer? 25 mei 2025 \nWaar? Sportpark Valkenhuizen \nSchrijf je vandaag nog in of doneer: www.loveliferun.nl/arnhem \nRen\, steun\, inspireer. Samen maken we het verschil! \n
URL:https://www.uitinarnhem.nl/agenda/lovelife-run-arnhem-op-sportpark-valkenhuizen/
LOCATION:Sportpark Valkenhuizen\, Beukenlaan 15\, Arnhem\, 6823 MA\, Nederland
CATEGORIES:Actief,Overig,Sport
ATTACH;FMTTYPE=image/jpeg:https://www.uitinarnhem.nl/wp-content/uploads/2025/03/481914674_593521423747023_5429195833869640877_n.jpg
END:VEVENT
END:VCALENDAR