BEGIN:VCALENDAR
VERSION:2.0
PRODID:-//Uit in Arnhem - ECPv5.0.0.2//NONSGML v1.0//EN
CALSCALE:GREGORIAN
METHOD:PUBLISH
X-WR-CALNAME:Uit in Arnhem
X-ORIGINAL-URL:https://www.uitinarnhem.nl
X-WR-CALDESC:Events for Uit in Arnhem
BEGIN:VTIMEZONE
TZID:Europe/Amsterdam
BEGIN:DAYLIGHT
TZOFFSETFROM:+0100
TZOFFSETTO:+0200
TZNAME:CEST
DTSTART:20240331T010000
END:DAYLIGHT
BEGIN:STANDARD
TZOFFSETFROM:+0200
TZOFFSETTO:+0100
TZNAME:CET
DTSTART:20241027T010000
END:STANDARD
END:VTIMEZONE
BEGIN:VEVENT
DTSTART;TZID=Europe/Amsterdam:20240619T110000
DTEND;TZID=Europe/Amsterdam:20240901T170000
DTSTAMP:20260421T085814
CREATED:20240718T151907Z
LAST-MODIFIED:20240718T151907Z
UID:9971-1718794800-1725210000@www.uitinarnhem.nl
SUMMARY:Looptijd verlengd: tentoonstelling 'Sithabile Mlotshwa - Inheritance - Mapping Colonial History # 2' in Museum Arnhem
DESCRIPTION:\nInheritance – Mapping Colonial History # 2 laat zien hoe de Nederlandse slavernij en slavenhandel verbonden zijn over verschillende werelddelen. Het belicht ook de vaak onzichtbare verhalen van tot slaaf gemaakte mensen in de WIC- en VOC-gebieden en de banden met de mensen in Gelderland die ervan profiteerden.  \n\nSaskia Bak\, directeur Museum Arnhem: “Sinds 19 juni is de tentoonstelling van Mlotshwa open voor publiek. We merken dat publiek erg geïnteresseerd is. Mensen willen zich echt verdiepen in de veelal onbekende rol van Gelderland in de Nederlandse slavernijgeschiedenis. Omdat we zoveel mogelijk mensen de kans willen geven om deze tentoonstelling te bezoeken\, hebben we besloten om de looptijd met een maand te verlengen.” De tentoonstelling is tot en met 1 september gratis te bezoeken in De Koepel van Museum Arnhem. \nOp zaterdag 6 juli is de kunstenaar zelf aanwezig. In het kader van Keti Koti wordt er dan een rondleiding over de tentoonstelling aangeboden. Ze neemt je mee langs haar werk en vertelt je het verhaal achter de tentoonstelling. De rondleiding wordt in het Engels gegeven. Deelname is gratis. \n\n
URL:https://www.uitinarnhem.nl/agenda/looptijd-verlengd-tentoonstelling-sithabile-mlotshwa-inheritance-mapping-colonial-history-2-in-museum-arnhem/
LOCATION:Museum Arnhem\, Utrechtseweg 87\, Arnhem\, Gelderland\, 6812 AA\, Nederland
CATEGORIES:Informatief & Verrijking,Tentoonstelling
ATTACH;FMTTYPE=image/jpeg:https://www.uitinarnhem.nl/wp-content/uploads/2024/07/The-Dutch-Golden-Age-by-Sithabile-Mlotshwa--scaled.jpg
END:VEVENT
END:VCALENDAR