BEGIN:VCALENDAR
VERSION:2.0
PRODID:-//Uit in Arnhem - ECPv5.0.0.2//NONSGML v1.0//EN
CALSCALE:GREGORIAN
METHOD:PUBLISH
X-WR-CALNAME:Uit in Arnhem
X-ORIGINAL-URL:https://www.uitinarnhem.nl
X-WR-CALDESC:Events for Uit in Arnhem
BEGIN:VTIMEZONE
TZID:Europe/Amsterdam
BEGIN:DAYLIGHT
TZOFFSETFROM:+0100
TZOFFSETTO:+0200
TZNAME:CEST
DTSTART:20240331T010000
END:DAYLIGHT
BEGIN:STANDARD
TZOFFSETFROM:+0200
TZOFFSETTO:+0100
TZNAME:CET
DTSTART:20241027T010000
END:STANDARD
END:VTIMEZONE
BEGIN:VEVENT
DTSTART;TZID=Europe/Amsterdam:20240905T000000
DTEND;TZID=Europe/Amsterdam:20240921T233000
DTSTAMP:20260421T130636
CREATED:20240826T093755Z
LAST-MODIFIED:20240826T094646Z
UID:10503-1725494400-1726961400@www.uitinarnhem.nl
SUMMARY:Lingezegen sCULpTUUR Festival in de Oude Moestuin
DESCRIPTION:Van 5 tot 21 september komen beelden tot leven in de Oude Moestuin in Park Lingezegen tijdens het Lingezegen sCULpTUUR festival! Vijf internationale beeldhouwers gaan aan de slag met unieke beeldhouwwerken die ieder het verhaal van één van de thema’s van Park Lingezegen verbeelden. Uiteraard is publiek van harte welkom om deze unieke kunstmanifestatie live te bekijken. \n‘Kunst terwijl u wacht’\nVoor iedereen die zich wel eens afvroeg ‘hoe maken ze toch vanuit een steen zo’n beeld’ is het Lingezegen sCULpTUUR Festival het antwoord. Vijf talentvolle internationale kunstenaars toveren in net geen drie weken een blok Belgisch hardsteen om in een uniek kunstwerk. Voor het publiek is het een unieke beleving. Van dichtbij zie je het beeldhouwwerk steeds meer vorm krijgen. Het is als het ware ‘kunst terwijl u wacht’. \nHet Festival staat onder leiding van beeldend kunstenaar Jorg van Daele uit België. Hij organiseerde eerder (internationale) kunstmanifestaties over de hele wereld\, onder andere in Slovenië\, België en Mexico.\nVoor Jorg van Daele is Park Lingezegen een bijzondere plek om dit evenement te organiseren. “Mijn broer Jens heeft jarenlang in Arnhem gewoond en gewerkt als danser en schrijver. Hij haalde de inspiratie uit de natuur in de omgeving. Helaas is hij veel te vroeg overleden. Mijn sculptuur zal een herinnering aan hem zijn. Het is bijzonder om dat dan op de plek te maken waar hij zo vaak was”. \nVijf unieke werken voor in Park Lingezegen\nAls aandenken aan het Lingezegen sCULpTUUR Festival blijven vijf unieke beeldhouwwerken over. Deze beelden krijgen ieder een betekenisvolle plek in Park Lingezegen. \nPraktische informatie\nHet Lingezegen sCULpTUUR Festival is live te bekijken van 5 tot en met 21 september. Publiek kan kosteloos komen kijken bij de beeldhouwers die aan het werk zijn in de Oude Moestuin\, aan De Park in Park Lingezegen. \n
URL:https://www.uitinarnhem.nl/agenda/lingezegen-sculptuur-festival-in-de-oude-moestuin/
LOCATION:De Oude Moestuin\, Elst\, 6661NW\, Nederland
CATEGORIES:Festival,Kindvriendelijk
ATTACH;FMTTYPE=image/jpeg:https://www.uitinarnhem.nl/wp-content/uploads/2024/08/20240821-Lingezegen-sCULpTUUR-Festival-2-683x1024-1.jpg
END:VEVENT
END:VCALENDAR