BEGIN:VCALENDAR
VERSION:2.0
PRODID:-//Uit in Arnhem - ECPv5.0.0.2//NONSGML v1.0//EN
CALSCALE:GREGORIAN
METHOD:PUBLISH
X-WR-CALNAME:Uit in Arnhem
X-ORIGINAL-URL:https://www.uitinarnhem.nl
X-WR-CALDESC:Events for Uit in Arnhem
BEGIN:VTIMEZONE
TZID:Europe/Amsterdam
BEGIN:DAYLIGHT
TZOFFSETFROM:+0100
TZOFFSETTO:+0200
TZNAME:CEST
DTSTART:20200329T010000
END:DAYLIGHT
BEGIN:STANDARD
TZOFFSETFROM:+0200
TZOFFSETTO:+0100
TZNAME:CET
DTSTART:20201025T010000
END:STANDARD
END:VTIMEZONE
BEGIN:VEVENT
DTSTART;TZID=Europe/Amsterdam:20201027T133000
DTEND;TZID=Europe/Amsterdam:20201027T143000
DTSTAMP:20260420T225407
CREATED:20200929T125318Z
LAST-MODIFIED:20201020T124903Z
UID:6045-1603805400-1603809000@www.uitinarnhem.nl
SUMMARY:Lezing 130 jaar Javaanse migratie in Museum Bronbeek
DESCRIPTION:Op 27 oktober zal Yvette Kopijn een lezing geven over ‘130 jaar Javaanse migratie\, met de titel: Javaanse Surinamers tussen Oost en West. Zij zal ingaan op de unieke geschiedenis van Javaanse Surinamers\, om vervolgens antwoord te geven op verschillende vragen zoals: Waarom weten wij in Nederland zo weinig over Javaanse Surinamers\, terwijl hun geschiedenis toch een gedeelde geschiedenis is? En waarom zijn we nog steeds geneigd om de Nederlandse koloniën in de Oost en in de West voor te stellen als twee van elkaar gescheiden levenssferen\, terwijl zij in werkelijkheid zo met elkaar vervlochten waren? \nDit zal zij doen aan de hand van de levensverhalen die zij verzamelde in haar boek ‘Stille Passanten’ (KIT Publ. 2008) en voor haar promotieonderzoek naar de levens en ervaringen van drie generaties Javaans-Surinaamse vrouwen. \nWegens de nieuwe coronamaatregelen wordt deze presentatie zonder publiek gestreamd en om 13.30 uur live via ons YouTube kanaal aangeboden. Houd deze pagina of onze social media kanalen in de gaten voor de link naar de livestream.\nJe kunt je nog aanmelden via loket.bronbeek@mindef.nl . Je ontvangt dan tijdig de uitnodiging met link in je mailbox. \nDeze activiteit is onderdeel van de Week van de koloniale geschiedenis. \n
URL:https://www.uitinarnhem.nl/agenda/lezing-130-jaar-javaanse-migratie-in-museum-bronbeek/
LOCATION:Museum Bronbeek\, Velperweg 147\, Arnhem\, 6824 MB\, Nederland
CATEGORIES:Overig
ATTACH;FMTTYPE=image/png:https://www.uitinarnhem.nl/wp-content/uploads/2020/09/Schermafbeelding-2020-09-29-om-14.43.13.png
ORGANIZER;CN="Museum%20Bronbeek":MAILTO:loket.bronbeek@mindef.nl
END:VEVENT
END:VCALENDAR