BEGIN:VCALENDAR
VERSION:2.0
PRODID:-//Uit in Arnhem - ECPv5.0.0.2//NONSGML v1.0//EN
CALSCALE:GREGORIAN
METHOD:PUBLISH
X-WR-CALNAME:Uit in Arnhem
X-ORIGINAL-URL:https://www.uitinarnhem.nl
X-WR-CALDESC:Events for Uit in Arnhem
BEGIN:VTIMEZONE
TZID:Europe/Amsterdam
BEGIN:DAYLIGHT
TZOFFSETFROM:+0100
TZOFFSETTO:+0200
TZNAME:CEST
DTSTART:20250330T010000
END:DAYLIGHT
BEGIN:STANDARD
TZOFFSETFROM:+0200
TZOFFSETTO:+0100
TZNAME:CET
DTSTART:20251026T010000
END:STANDARD
END:VTIMEZONE
BEGIN:VEVENT
DTSTART;TZID=Europe/Amsterdam:20250711T190000
DTEND;TZID=Europe/Amsterdam:20250712T000000
DTSTAMP:20260421T070121
CREATED:20250119T124755Z
LAST-MODIFIED:20250119T124755Z
UID:12265-1752260400-1752278400@www.uitinarnhem.nl
SUMMARY:LEGENDS of ROCK at the Park op de Ronde Weide
DESCRIPTION:Eerste editie van LEGENDS of ROCK at the Park op de Ronde Weide in Park Sonsbeek. \nOp vrijdag 11 juli trapt LEGENDS of ROCK at the Park 2025 af met drie tribute bands van Green Day\, Foo Fighters en Muse. Deze topbands zullen op fenomenale wijze alle hits en de beste albumsongs van hun helden over het publiek uit storten. Op het XL-podium\, compleet met dynamische lichtshows\, lasershows\, LED-walls\, vlammen en vele andere special effects zorgen zij voor een aaneenschakeling van dampende concerten en vele muzikale hoogtepunten. Met dit unieke programma zullen de bands Park Sonsbeek in Arnhem op haar grondvesten laten schudden. Kom dus ook voor de ultieme live festival-beleving en scoor je tickets! \nLine up:\n19.30 uur: Foo Fighters by Monkey Wrench (NL)\n21.05 uur: Green Day by Green Bay (NL)\n22.45 uur: Muse by Knights of Muse (NL) \nLEGENDS of ROCK at the Park biedt naast de spectaculaire optredens een uitgebreide Food-area\, merchandise stands\, vakkundig en enthousiast barpersoneel. Uiteraard is er ook een ruime hoeveelheid zit- en staanplaatsen en schone toiletten. Kortom\, LEGENDS of ROCK at the Park is op vrijdag 11\, zaterdag 12 en zondag 13 juli ‘The Place To Be’! \nVoor meer informatie en tickets: https://legendsofrocktributetour.com/at-the-park-11-07-25-arnhem/\nSPECIAL NOTE: Er zijn geen leeftijdsgrenzen! Het festival is toegankelijk voor alle leeftijden. Kinderen jonger dan 14 jaar kunnen onder begeleiding van een volwassene naar binnen. Voor kinderen t/m 11 jaar is de toegang zelfs GRATIS. \n
URL:https://www.uitinarnhem.nl/agenda/legends-of-rock-at-the-park-op-de-ronde-weide-2/
LOCATION:De Ronde Weide\, Zijpendaalseweg 24A\, Arnhem\, 6814 CL\, Nederland
CATEGORIES:Festival,Kindvriendelijk,Muziek
ATTACH;FMTTYPE=image/jpeg:https://www.uitinarnhem.nl/wp-content/uploads/2025/01/20250711-LoRPark-vrijdag-V1-FBbanner.jpg
END:VEVENT
END:VCALENDAR