BEGIN:VCALENDAR
VERSION:2.0
PRODID:-//Uit in Arnhem - ECPv5.0.0.2//NONSGML v1.0//EN
CALSCALE:GREGORIAN
METHOD:PUBLISH
X-WR-CALNAME:Uit in Arnhem
X-ORIGINAL-URL:https://www.uitinarnhem.nl
X-WR-CALDESC:Events for Uit in Arnhem
BEGIN:VTIMEZONE
TZID:Europe/Amsterdam
BEGIN:DAYLIGHT
TZOFFSETFROM:+0100
TZOFFSETTO:+0200
TZNAME:CEST
DTSTART:20210328T010000
END:DAYLIGHT
BEGIN:STANDARD
TZOFFSETFROM:+0200
TZOFFSETTO:+0100
TZNAME:CET
DTSTART:20211031T010000
END:STANDARD
END:VTIMEZONE
BEGIN:VEVENT
DTSTART;TZID=Europe/Amsterdam:20210909T080000
DTEND;TZID=Europe/Amsterdam:20210912T220000
DTSTAMP:20260423T084213
CREATED:20210824T072730Z
LAST-MODIFIED:20210824T074327Z
UID:6985-1631174400-1631484000@www.uitinarnhem.nl
SUMMARY:Kortfilmfestival Go Short Arnhem
DESCRIPTION:Filmwandeling Park Sonsbeek & de beste korte films bij Focus Filmtheater\nGo Short maakt dit jaar voor de derde keer de oversteek naar Arnhem. Het kortfilmfestival presenteert i.s.m. Focus Filmtheater en makerscollectief Gelders DOEK filmfestival\, Go Short Arnhem. Van 9 t/m 12 september 2021 zie je de beste korte films van talentvolle makers uit Gelderland. Ook worden bezoekers tijdens Go Short@The Park meegenomen op een bijzondere filmwandeling in Park Sonsbeek én kunnen filmliefhebbers het dak op bij Focus Filmtheater. Op het dak bij Focus kun je onder de sterrenhemel genieten van de meest verrassende\, urgente en ontroerende korte films. \nKijk voor meer informatie en het volledige programma op Go Short Arnhem 2021 – Go Short \n
URL:https://www.uitinarnhem.nl/agenda/kortfilmfestival-go-short-arnhem/
LOCATION:Focus Filmtheater\, Audrey Hepburnplein 1\, Arnhem\, 6811 EH\, Nederland
CATEGORIES:Festival,Film,Theater
ATTACH;FMTTYPE=image/jpeg:https://www.uitinarnhem.nl/wp-content/uploads/2021/08/Marlon-Brando-Still-01-scaled.jpg
END:VEVENT
END:VCALENDAR