BEGIN:VCALENDAR
VERSION:2.0
PRODID:-//Uit in Arnhem - ECPv5.0.0.2//NONSGML v1.0//EN
CALSCALE:GREGORIAN
METHOD:PUBLISH
X-WR-CALNAME:Uit in Arnhem
X-ORIGINAL-URL:https://www.uitinarnhem.nl
X-WR-CALDESC:Events for Uit in Arnhem
BEGIN:VTIMEZONE
TZID:Europe/Amsterdam
BEGIN:DAYLIGHT
TZOFFSETFROM:+0100
TZOFFSETTO:+0200
TZNAME:CEST
DTSTART:20240331T010000
END:DAYLIGHT
BEGIN:STANDARD
TZOFFSETFROM:+0200
TZOFFSETTO:+0100
TZNAME:CET
DTSTART:20241027T010000
END:STANDARD
END:VTIMEZONE
BEGIN:VEVENT
DTSTART;TZID=Europe/Amsterdam:20241019T103000
DTEND;TZID=Europe/Amsterdam:20241027T163000
DTSTAMP:20260423T124234
CREATED:20241018T132320Z
LAST-MODIFIED:20241018T132320Z
UID:11165-1729333800-1730046600@www.uitinarnhem.nl
SUMMARY:Kinderprogramma in Focus Filmtheater tijdens de herfstvakantie
DESCRIPTION:Van 19 tot en met 27 oktober 2024 zijn er volop kinderfilms en -activiteiten in Focus Filmtheater. \nIn de herfstvakantie\, van zaterdag 19 tot en met zondag 27 oktober 2024\, staat Focus Filmtheater Arnhem in het teken van Focus Junior. Met het programma Cinekid on Tour\, kinderfilms in het kader van het Sprookjesfestival\, gratis pauze-activiteiten\, de green screen workshop ‘Spring in de Film’ en de allereerste Focus Mini-ochtend! Elke dag is er dus wat te zien of te doen voor kinderen vanaf 2 jaar. Bovendien kun je voor of na de film lekker poffertjes komen eten in Focus Eten en Drinken. \nIn verband met de herfstvakantie in regio Midden en Noord\, vertoont Focus ook de week erna\, van 26 oktober tot en met 3 november\, extra kinderfilms. Het programma hiervan komt maandag 21 oktober online. \nVoor meer informatie over het programma en de toegangsprijzen\, kijk op:  https://www.focusarnhem.nl/special/focus-junior-in-de-herfstvakantie/ \n
URL:https://www.uitinarnhem.nl/agenda/kinderprogramma-in-focus-filmtheater-tijdens-de-herfstvakantie/
LOCATION:Focus Filmtheater\, Audrey Hepburnplein 1\, Arnhem\, 6811 EH\, Nederland
CATEGORIES:Film,Kindvriendelijk
ATTACH;FMTTYPE=image/jpeg:https://www.uitinarnhem.nl/wp-content/uploads/2024/10/Buurman-Buurman-hebben-een-nieuw-huis-_st_11_jpg_sd-high-3-1.jpg
END:VEVENT
END:VCALENDAR