BEGIN:VCALENDAR
VERSION:2.0
PRODID:-//Uit in Arnhem - ECPv5.0.0.2//NONSGML v1.0//EN
CALSCALE:GREGORIAN
METHOD:PUBLISH
X-WR-CALNAME:Uit in Arnhem
X-ORIGINAL-URL:https://www.uitinarnhem.nl
X-WR-CALDESC:Events for Uit in Arnhem
BEGIN:VTIMEZONE
TZID:Europe/Amsterdam
BEGIN:DAYLIGHT
TZOFFSETFROM:+0100
TZOFFSETTO:+0200
TZNAME:CEST
DTSTART:20250330T010000
END:DAYLIGHT
BEGIN:STANDARD
TZOFFSETFROM:+0200
TZOFFSETTO:+0100
TZNAME:CET
DTSTART:20251026T010000
END:STANDARD
END:VTIMEZONE
BEGIN:VEVENT
DTSTART;TZID=Europe/Amsterdam:20251214T120000
DTEND;TZID=Europe/Amsterdam:20251214T180000
DTSTAMP:20260421T053005
CREATED:20251127T122043Z
LAST-MODIFIED:20251127T122043Z
UID:13830-1765713600-1765735200@www.uitinarnhem.nl
SUMMARY:Kerstmarkt Binnenstad Arnhem 2025
DESCRIPTION:De traditionele Kerstmarkt is een echte ‘warme\, winterse warenmarkt’ in de binnenstad. De markt bestaat uit meer dan 100 marktkramen met een aanbod waar de echte funshopper zijn/haar hart kan ophalen. Struinend langs de kramen met een breed aanbod aan accessoires\, kleding\, sieraden\, etenswaren en allerlei kerstaanbiedingen scoor je de leukste geschenken voor onder de kerstboom. \nDatum: zondag 14 december 2025\nTijd: 12.00 – 18.00 uur\nLocatie: zuidkant winkelgebied binnenstad (o.a. Koningstraat\, Broerenstraat\, Kerkstraat\, Bakkerstraat\, Weverstraat\, Eiland) \nVoor meer informatie of als je wilt deelnemen met een kraam\, kijk op https://binnenstadarnhem.nl/kerstmarkt/ \n
URL:https://www.uitinarnhem.nl/agenda/kerstmarkt-binnenstad-arnhem-2025/
LOCATION:Binnenstad Arnhem
CATEGORIES:Actief,Kindvriendelijk,Markt,Overig
ATTACH;FMTTYPE=image/jpeg:https://www.uitinarnhem.nl/wp-content/uploads/2025/11/MNQUIJEN.NL-Kerstmarkt-Binnenstad-Arnhem-mix-social-media-2816-2048x1367-1.jpg
END:VEVENT
END:VCALENDAR