BEGIN:VCALENDAR
VERSION:2.0
PRODID:-//Uit in Arnhem - ECPv5.0.0.2//NONSGML v1.0//EN
CALSCALE:GREGORIAN
METHOD:PUBLISH
X-WR-CALNAME:Uit in Arnhem
X-ORIGINAL-URL:https://www.uitinarnhem.nl
X-WR-CALDESC:Events for Uit in Arnhem
BEGIN:VTIMEZONE
TZID:Europe/Amsterdam
BEGIN:DAYLIGHT
TZOFFSETFROM:+0100
TZOFFSETTO:+0200
TZNAME:CEST
DTSTART:20250330T010000
END:DAYLIGHT
BEGIN:STANDARD
TZOFFSETFROM:+0200
TZOFFSETTO:+0100
TZNAME:CET
DTSTART:20251026T010000
END:STANDARD
END:VTIMEZONE
BEGIN:VEVENT
DTSTART;TZID=Europe/Amsterdam:20250524T190000
DTEND;TZID=Europe/Amsterdam:20250524T233000
DTSTAMP:20260421T080231
CREATED:20250504T175149Z
LAST-MODIFIED:20250504T175149Z
UID:13213-1748113200-1748129400@www.uitinarnhem.nl
SUMMARY:Jazz+More Fietsroute Arnhem
DESCRIPTION:Op zaterdagavond 24 mei nodigt het festival Jazz + More op de Fiets het publiek uit voor een unieke muzikale ontdekkingstocht door Arnhem. Stap op de fiets en beleef intieme\, hoogwaardige concerten op vijf bijzondere locaties in de stad. Elk met een eigen muzikale geschiedenis en betekenis voor Arnhem. \nHet festival biedt een gevarieerd programma met korte concerten van circa 20 minuten\, verspreid over verschillende rondes. Zo kunnen bezoekers op één avond genieten van uiteenlopende muziekstijlen en getalenteerde artiesten\, waaronder Caroline Rutten\, Ben van der Dungen\, Jetse de Jong\, het Igor Herstel Trio en het Marcus Schinkel Trio. \nToegang tot het festival is gratis. Om het kleinschalige en intieme karakter te waarborgen\, is het aantal plaatsen per locatie beperkt. Aanmelden is daarom verplicht en kan via de website: http://www.dwaallicht-producties.nl. Na inschrijving ontvangen deelnemers een gepersonaliseerde route langs vijf concertlocaties. \nHet festival wordt feestelijk afgesloten met een bruisende afterparty in Nelson\, met een all star bezetting. \n
URL:https://www.uitinarnhem.nl/agenda/jazzmore-fietsroute-arnhem-2/
LOCATION:Nelson\, Coehoornstraat 33\, Arnhem
CATEGORIES:Actief,Muziek
ATTACH;FMTTYPE=image/jpeg:https://www.uitinarnhem.nl/wp-content/uploads/2025/05/routeBlauw_page-0001-1117x1536-1.jpg
END:VEVENT
END:VCALENDAR