BEGIN:VCALENDAR
VERSION:2.0
PRODID:-//Uit in Arnhem - ECPv5.0.0.2//NONSGML v1.0//EN
CALSCALE:GREGORIAN
METHOD:PUBLISH
X-WR-CALNAME:Uit in Arnhem
X-ORIGINAL-URL:https://www.uitinarnhem.nl
X-WR-CALDESC:Events for Uit in Arnhem
BEGIN:VTIMEZONE
TZID:Europe/Amsterdam
BEGIN:DAYLIGHT
TZOFFSETFROM:+0100
TZOFFSETTO:+0200
TZNAME:CEST
DTSTART:20240331T010000
END:DAYLIGHT
BEGIN:STANDARD
TZOFFSETFROM:+0200
TZOFFSETTO:+0100
TZNAME:CET
DTSTART:20241027T010000
END:STANDARD
END:VTIMEZONE
BEGIN:VEVENT
DTSTART;TZID=Europe/Amsterdam:20240402T203000
DTEND;TZID=Europe/Amsterdam:20240402T230000
DTSTAMP:20260421T073951
CREATED:20240325T125621Z
LAST-MODIFIED:20240325T125621Z
UID:8565-1712089800-1712098800@www.uitinarnhem.nl
SUMMARY:Jazz in Arnhem - Huis van Puck - Mete Erker Trio +1
DESCRIPTION:Mete Erker Trio +1\n\n\nFree Flow Music! Het eerste album van het Mete Erker Trio\, getiteld ‘Celebration of Mediocrity’\, is geïnspireerd door diverse medium grooves uit de jazztraditie. Het tweede album werd enkele jaren later live opgenomen in Stella by Starlight in Arnhem. Op dit album verschoof het groepsgeluid naar een meer extroverte sound en manier van spelen.\nMet het Trio + 1 zet Erker deze ontwikkeling verder door en gaat hij terug naar zijn allereerste inspiratiebron: de vrije expressionistische jazzmuziek uit de periode eind ’60 begin ’70. Dit doet hij met een gloednieuwe band\, bestaande uit drie jonge\, zeer eigengereide musici: pianist Floris Kappeyne\, bassist Tijs Klaassen en drummer Wouter Kühne. Free Flow Music! \nLuister hier naar het Mete Erker Trio + 1 live in Paradox: \nMete Erker \nMete Erker is een saxofonist die muziek zeer persoonlijk benadert. Zijn spel wordt\ngekenmerkt door een warme toon in combinatie met rauwe energie. Mete Erker speelde met internationale grootheden als Peter Erskine\, David Liebman\, Dudu Ndiaye Rose en Winston Mankunku\, en draait al jaren mee in de top van de Nederlandse scene\, van het New Cool Collective tot Conny Janssen Danst. Daarnaast is hij mede drijvende kracht achter het Artvark Saxophone Quartet\, het Mete Erker Trio+1 en het duo Mete Erker &amp; Jeroen van Vliet In de grote verscheidenheid aan projecten waar Mete Erker bij betrokken is voegt hij een eigen signatuur toe aan het klankbeeld; solistisch of onderhuids\, altijd in dienst van de muziek. Met het duo en trio treedt hij als solist op de voorgrond. Hij neemt daarbij alle ruimte om volledig zijn eigen spel te spelen\, open en direct\, vers van de lever. \n\nMete Erker Trio +1\nMete Erker – tenorsax\nFloris Kappeyne – piano\nTijs Klaassen – contrabas\nWouter Kühne – drums \nfoto door Jitske Schols\n\n
URL:https://www.uitinarnhem.nl/agenda/jazz-in-arnhem-huis-van-puck-mete-erker-trio-1/
LOCATION:Huis van Puck\, Kazerneplein 6-2\, Arnhem\, Nederland\, 6822ET\, Nederland
CATEGORIES:Muziek
ATTACH;FMTTYPE=image/jpeg:https://www.uitinarnhem.nl/wp-content/uploads/2024/03/LR_MeteErker©JitskeSchols-1-e1684498972776.jpg
END:VEVENT
END:VCALENDAR