BEGIN:VCALENDAR
VERSION:2.0
PRODID:-//Uit in Arnhem - ECPv5.0.0.2//NONSGML v1.0//EN
CALSCALE:GREGORIAN
METHOD:PUBLISH
X-WR-CALNAME:Uit in Arnhem
X-ORIGINAL-URL:https://www.uitinarnhem.nl
X-WR-CALDESC:Events for Uit in Arnhem
BEGIN:VTIMEZONE
TZID:Europe/Amsterdam
BEGIN:DAYLIGHT
TZOFFSETFROM:+0100
TZOFFSETTO:+0200
TZNAME:CEST
DTSTART:20200329T010000
END:DAYLIGHT
BEGIN:STANDARD
TZOFFSETFROM:+0200
TZOFFSETTO:+0100
TZNAME:CET
DTSTART:20201025T010000
END:STANDARD
END:VTIMEZONE
BEGIN:VEVENT
DTSTART;TZID=Europe/Amsterdam:20200820T140000
DTEND;TZID=Europe/Amsterdam:20200820T183000
DTSTAMP:20260421T060111
CREATED:20200817T152618Z
LAST-MODIFIED:20200817T153514Z
UID:5747-1597932000-1597948200@www.uitinarnhem.nl
SUMMARY:Introdans beweegt je LIVE in het Coehoornpark
DESCRIPTION:De afgelopen maanden bewoog Introdans zijn publiek door online actieve workshops aan te bieden. Afgelopen juni\, na de versoepeling van de maatregelen\, bood Introdans de lessen live aan. De woonkamer werd voor de frisse buitenlucht van het Coehoornpark in Arnhem geruild\, vlak bij station Arnhem Centraal. Door het grote succes en het enorme dansplezier\, start er nu een nieuwe reeks danslessen in het park. Op donderdag 20 augustus\, 27 augustus en 10 september start daar om 14.00 uur\, 15.00 uur\, 16.00 uur\, 17.00 uur en 18.00 uur een energieke dansworkshop van 30 minuten. Bij iedere workshop ontmoet je tevens een danser(es) van Introdans! \nDe workshops verschillen per week en zijn geïnspireerd op de balletten die in het najaar in het theater te zien zijn. Ze zijn afzonderlijk te volgen maar wie vaker wil komen krijgt steeds een nieuwe workshop. Introdans beweegt je LIVE is toegankelijk voor iedereen vanaf 8 jaar\, ongeacht het dansniveau of fysieke gesteldheid. Er is geen ervaring nodig. Iedereen die mee wil doen kan zich opgeven via welkom@introdans.nl\, onder vermelding van contactgegevens\, leeftijd en een eerste en tweede voorkeur voor het tijdstip van de workshop. Er wordt uiteraard rekening gehouden met de richtlijnen van het RIVM en er is voldoende afstand tussen alle aanwezigen. Deelname is gratis\, maar een vrijwillige donatie wordt zeer op prijs gesteld. Het aantal plekken per workshop is beperkt. \n
URL:https://www.uitinarnhem.nl/agenda/introdans-beweegt-je-live-in-het-coehoornpark/
CATEGORIES:Actief,Kindvriendelijk,Theater
ATTACH;FMTTYPE=image/jpeg:https://www.uitinarnhem.nl/wp-content/uploads/2020/08/Introdans-beweegt-je-LIVE-in-het-park-1.jpg
END:VEVENT
END:VCALENDAR