BEGIN:VCALENDAR
VERSION:2.0
PRODID:-//Uit in Arnhem - ECPv5.0.0.2//NONSGML v1.0//EN
CALSCALE:GREGORIAN
METHOD:PUBLISH
X-WR-CALNAME:Uit in Arnhem
X-ORIGINAL-URL:https://www.uitinarnhem.nl
X-WR-CALDESC:Events for Uit in Arnhem
BEGIN:VTIMEZONE
TZID:Europe/Amsterdam
BEGIN:DAYLIGHT
TZOFFSETFROM:+0100
TZOFFSETTO:+0200
TZNAME:CEST
DTSTART:20250330T010000
END:DAYLIGHT
BEGIN:STANDARD
TZOFFSETFROM:+0200
TZOFFSETTO:+0100
TZNAME:CET
DTSTART:20251026T010000
END:STANDARD
END:VTIMEZONE
BEGIN:VEVENT
DTSTART;TZID=Europe/Amsterdam:20250529T120000
DTEND;TZID=Europe/Amsterdam:20250601T220000
DTSTAMP:20260421T104014
CREATED:20250228T140237Z
LAST-MODIFIED:20250228T140237Z
UID:12535-1748520000-1748815200@www.uitinarnhem.nl
SUMMARY:Hoogte80 Festival in Stadspark Hoogte80
DESCRIPTION:Foto: Kevin Canales\nVan 29 mei tot en met 1 juni 2025 is het tijd voor Hoogte80\, het unieke festival dat ieder jaar plaatsvindt tijdens Hemelvaart in het prachtige stadspark Hoogte80 in Arnhem. Vier dagen lang is het park het decor voor verrassende voorstellingen\, muzikale optredens\, dans\, theater\, en veel meer.  \nTussen de bomen staan gezellige theatertenten\, de lekkerste foodtrucks\, er wordt gedanst bij de Platenbus en er ontstaan nieuwe vriendschappen. Of je nu komt voor de bijzondere voorstellingen\, de gezellige sfeer of het uitzicht over de stad\, Hoogte80 biedt voor ieder wat wils. Kom\, ontdek en ontmoet! \nDe toegang tot het festivalterrein is gratis. Voor de (meeste) voorstellingen geldt een bijdrage. Met het ‘betaal-wat-je-kan’ principe bepaal je zelf wat je betaalt. Afhankelijk van wat je kan missen\, kies je uit 2 of 3 tarieven. Zo blijft cultuur voor iedereen toegankelijk én zorgen we er samen voor dat Hoogte80 de komende jaren weer komt. Voor het toilet betaal je €0\,50 per keer of €2\,- voor de hele dag. \n
URL:https://www.uitinarnhem.nl/agenda/hoogte80-festival-in-stadspark-hoogte80/
LOCATION:Hoogte80\, Zaslaan\, Arnhem\, Nederland
CATEGORIES:Cabaret,Festival,Kindvriendelijk,Muziek,Overig,Theater
ATTACH;FMTTYPE=image/jpeg:https://www.uitinarnhem.nl/wp-content/uploads/2025/02/hoogtefestival.jpg
END:VEVENT
END:VCALENDAR