BEGIN:VCALENDAR
VERSION:2.0
PRODID:-//Uit in Arnhem - ECPv5.0.0.2//NONSGML v1.0//EN
CALSCALE:GREGORIAN
METHOD:PUBLISH
X-WR-CALNAME:Uit in Arnhem
X-ORIGINAL-URL:https://www.uitinarnhem.nl
X-WR-CALDESC:Events for Uit in Arnhem
BEGIN:VTIMEZONE
TZID:Europe/Amsterdam
BEGIN:DAYLIGHT
TZOFFSETFROM:+0100
TZOFFSETTO:+0200
TZNAME:CEST
DTSTART:20260329T010000
END:DAYLIGHT
BEGIN:STANDARD
TZOFFSETFROM:+0200
TZOFFSETTO:+0100
TZNAME:CET
DTSTART:20261025T010000
END:STANDARD
END:VTIMEZONE
BEGIN:VEVENT
DTSTART;TZID=Europe/Amsterdam:20260313T193000
DTEND;TZID=Europe/Amsterdam:20260313T223000
DTSTAMP:20260421T002352
CREATED:20260311T075518Z
LAST-MODIFIED:20260311T075518Z
UID:14099-1773430200-1773441000@www.uitinarnhem.nl
SUMMARY:Grand Opening Party: BLOU Rooftop Bar Arnhem.
DESCRIPTION:Grand Opening Party BLOU Rooftop Bar: K.O. Winter Disco \nOp 13 maart 2026 vieren we de feestelijke opening van het nieuwe seizoen met een fantastisch openingsfeest op onze Rooftop Bar BLOU. Bezoekers kunnen genieten van een gezellige disco-sfeer\, de beste muziek\, heerlijke bites & drankjes en een bijzondere rooftop experience nog voor het begin van de lente. \nTijdens de opening worden gasten feestelijk ontvangen met een bubbel en amuse. Gedurende de avond worden er diverse heerlijke bites geserveerd\, waaronder verse oesters. De rooftop is volledig overdekt en verwarmd\, zodat bezoekers comfortabel kunnen genieten van het event. \nPraktische info:\nLocatie: BLOU Rooftop Bar – Hotel Haarhuis\, Arnhem\nDatum: 13 maart 2026\nTijd: 19:30 – 22:30\nToegang: Ticket €30\, reserveren via de website van BLOU Rooftop Bar \n
URL:https://www.uitinarnhem.nl/agenda/grand-opening-party-blou-rooftop-bar-arnhem/
LOCATION:Hotel Haarhuis\, Stationsplein 1\, Arnhem\, 6811 KG\, Nederland
CATEGORIES:Festival
ATTACH;FMTTYPE=image/png:https://www.uitinarnhem.nl/wp-content/uploads/2026/03/BLOU-Rooftop-BAR.png
END:VEVENT
END:VCALENDAR