BEGIN:VCALENDAR
VERSION:2.0
PRODID:-//Uit in Arnhem - ECPv5.0.0.2//NONSGML v1.0//EN
CALSCALE:GREGORIAN
METHOD:PUBLISH
X-WR-CALNAME:Uit in Arnhem
X-ORIGINAL-URL:https://www.uitinarnhem.nl
X-WR-CALDESC:Events for Uit in Arnhem
BEGIN:VTIMEZONE
TZID:Europe/Amsterdam
BEGIN:DAYLIGHT
TZOFFSETFROM:+0100
TZOFFSETTO:+0200
TZNAME:CEST
DTSTART:20250330T010000
END:DAYLIGHT
BEGIN:STANDARD
TZOFFSETFROM:+0200
TZOFFSETTO:+0100
TZNAME:CET
DTSTART:20251026T010000
END:STANDARD
END:VTIMEZONE
BEGIN:VEVENT
DTSTART;TZID=Europe/Amsterdam:20250327T193000
DTEND;TZID=Europe/Amsterdam:20250327T223000
DTSTAMP:20260421T072122
CREATED:20250316T162802Z
LAST-MODIFIED:20250316T162802Z
UID:12629-1743103800-1743114600@www.uitinarnhem.nl
SUMMARY:Fresku in Luxor Live
DESCRIPTION:Fresku is sinds 2008 een van de gevestigde namen in de Nederlandse rapscene. Dat werd hij door onderhuidse gevoelens te bespreken; van zichzelf\, van de mensen om hem heen\, van de maatschappij. \nFresku\nFresku bracht eind 2008 het nummer Brief Aan Kees uit wat hem een contract bij het grootste hiphop-label van Nederland\, Top Notch opleverde. Na een hoop zeer succesvolle albums is hij uitgegroeid tot creatieve duizendpoot die naast de muziek ook acteert\, als cabaretier optreedt en zijn eigen label runt. Fresku steekt zijn angsten\, twijfels en te geven liefde niet onder stoelen of banken. Hij hield Hilversum een spiegel voor én liet van zich horen in fasen van polarisatie. Maar al die stappen bleken kleine stappen van een groot proces; het leren. Het leven. Het leren leven. \nNobinh (support)\nDe muziek van rapper Nobinh kan je zien als als een verzameling ervaringen en emoties met hiphop als basis. Met een combu van catchy hooks\, groovy ritmes en beladen teksten wil deze protegé van Fresku mensen motiveren en laten lachen. \n
URL:https://www.uitinarnhem.nl/agenda/fresku-in-luxor-live/
LOCATION:Luxor Live\, Willemsplein 10\, Arnhem\, 6811KB\, Nederland
CATEGORIES:Muziek
ATTACH;FMTTYPE=image/jpeg:https://www.uitinarnhem.nl/wp-content/uploads/2025/03/Luxor-Live_Fresku_web-1920x630-1.jpg
END:VEVENT
END:VCALENDAR