BEGIN:VCALENDAR
VERSION:2.0
PRODID:-//Uit in Arnhem - ECPv5.0.0.2//NONSGML v1.0//EN
CALSCALE:GREGORIAN
METHOD:PUBLISH
X-WR-CALNAME:Uit in Arnhem
X-ORIGINAL-URL:https://www.uitinarnhem.nl
X-WR-CALDESC:Events for Uit in Arnhem
BEGIN:VTIMEZONE
TZID:Europe/Amsterdam
BEGIN:DAYLIGHT
TZOFFSETFROM:+0100
TZOFFSETTO:+0200
TZNAME:CEST
DTSTART:20250330T010000
END:DAYLIGHT
BEGIN:STANDARD
TZOFFSETFROM:+0200
TZOFFSETTO:+0100
TZNAME:CET
DTSTART:20251026T010000
END:STANDARD
END:VTIMEZONE
BEGIN:VEVENT
DTSTART;TZID=Europe/Amsterdam:20250621T143000
DTEND;TZID=Europe/Amsterdam:20250622T000000
DTSTAMP:20260421T082544
CREATED:20250514T174625Z
LAST-MODIFIED:20250514T174625Z
UID:13251-1750516200-1750550400@www.uitinarnhem.nl
SUMMARY:festival Spijkerrok op Vrijstaat Thialf
DESCRIPTION:Van hiphop tot indie\, elektronisch tot ska en rock tot singer-songwriter: je krijgt het allemaal tijdens jouw favoriete Arnhemse feelgoodfestival SPIJKERROK. \nGulpener Bierbrouwerij is de hoofdsponsor en De Zwaan in de Steenstraat regelt de wijntjes. Verder zijn er een paar leuke food stands (ook vega/vegan) en is er wat leuks te doen voor de kinderen (tot 12 jaar gratis). En ja\, het groene Teletubbie-terrein en de aanwezige super soakers zijn op zich al reden genoeg om naar SPIJKERROK te komen. Laten we samen iets prachtigs maken van de langste dag van het jaar! \nDe eerste acts zijn bekend: The Cubical\, Mila & Mira\, Magic Bullet en Christopher Walkman. \nKom dus ook op zaterdag 21 juni naar Vrijstaat Thialf in het Spijkerkwartier. Meer informatie en tickets via: https://www.spijkerrok.com/ \n
URL:https://www.uitinarnhem.nl/agenda/festival-spijkerrok-op-vrijstaat-thialf/
LOCATION:Vrijstaat Thialf\, Dullertstraat 33
CATEGORIES:Festival,Muziek
ATTACH;FMTTYPE=image/jpeg:https://www.uitinarnhem.nl/wp-content/uploads/2025/05/11ede9c5-e69d-45c7-ad76-8b7bd29d465c.jpg
END:VEVENT
END:VCALENDAR