BEGIN:VCALENDAR
VERSION:2.0
PRODID:-//Uit in Arnhem - ECPv5.0.0.2//NONSGML v1.0//EN
CALSCALE:GREGORIAN
METHOD:PUBLISH
X-WR-CALNAME:Uit in Arnhem
X-ORIGINAL-URL:https://www.uitinarnhem.nl
X-WR-CALDESC:Events for Uit in Arnhem
BEGIN:VTIMEZONE
TZID:Europe/Amsterdam
BEGIN:DAYLIGHT
TZOFFSETFROM:+0100
TZOFFSETTO:+0200
TZNAME:CEST
DTSTART:20240331T010000
END:DAYLIGHT
BEGIN:STANDARD
TZOFFSETFROM:+0200
TZOFFSETTO:+0100
TZNAME:CET
DTSTART:20241027T010000
END:STANDARD
END:VTIMEZONE
BEGIN:VEVENT
DTSTART;TZID=Europe/Amsterdam:20240823T183000
DTEND;TZID=Europe/Amsterdam:20240825T180000
DTSTAMP:20260421T060118
CREATED:20240817T152641Z
LAST-MODIFIED:20240817T183514Z
UID:10453-1724437800-1724608800@www.uitinarnhem.nl
SUMMARY:‘Expeditie Aardvacht’ in Park Gulden Bodem
DESCRIPTION:Magische popsongs\, betoverende beelden en Park Gulden Bodem als locatie: dat is de voorstelling Expeditie Aardvacht van de Arnhemse theatermakers DeJong&DeWitte. Zij spelen een beeldende en muzikale voorstelling geïnspireerd op Shakespeares The Tempest. \nIn Expeditie Aardvacht neemt DeJong&DeWitte je mee naar Shakespeare’s magische eiland uit zijn stuk ‘The Tempest’. Een eiland\, waarop mens en natuur nog als één samenleven en deel uitmaken van een betoverend ecosysteem; iets dat tegenwoordig alleen nog in onze verbeelding bestaat. Want was de mens in Shakespeare’s tijd nog betoverd door de magie van de natuur\, inmiddels houdt de betovering van de vooruitgang ons in haar greep\, en lijkt onze verbinding ermee te zijn verbroken. Met wonderlijke beelden en popsongs geïnspireerd op Shakespeare’s originele teksten\, geven vier performers op locatie de natuur opnieuw een stem. \nPraktische informatie\nDe voorstelling vindt plaats in de openlucht en gaat ook door bij lichte regen. Aangeraden wordt om kleding aan te passen aan de weersomstandigheden. Een wandeling van 5 à 10 minuten door een bosachtige omgeving maakt deel uit van de voorstelling. \nData: van 23 tot en met 25 augustus\, op 31 augustus en 1 september.\nPrijzen: vanaf € 10\,00 \nVoor meer informatie over de theatermakers kijk op: http://www.dejongdewitte.nl/expeditieaardvacht. \n
URL:https://www.uitinarnhem.nl/agenda/expeditie-aardvacht-in-park-gulden-bodem/
LOCATION:Park Gulden Bodem\, Zijpendaalseweg 193\, Arnhem\, 6814 CJ\, Nederland
CATEGORIES:Theater
ATTACH;FMTTYPE=image/jpeg:https://www.uitinarnhem.nl/wp-content/uploads/2024/08/©DeJongDeWitte_EXPEDITIE-AARDVACHT_evenement-3.jpg
END:VEVENT
END:VCALENDAR