BEGIN:VCALENDAR
VERSION:2.0
PRODID:-//Uit in Arnhem - ECPv5.0.0.2//NONSGML v1.0//EN
CALSCALE:GREGORIAN
METHOD:PUBLISH
X-WR-CALNAME:Uit in Arnhem
X-ORIGINAL-URL:https://www.uitinarnhem.nl
X-WR-CALDESC:Events for Uit in Arnhem
BEGIN:VTIMEZONE
TZID:Europe/Amsterdam
BEGIN:DAYLIGHT
TZOFFSETFROM:+0100
TZOFFSETTO:+0200
TZNAME:CEST
DTSTART:20240331T010000
END:DAYLIGHT
BEGIN:STANDARD
TZOFFSETFROM:+0200
TZOFFSETTO:+0100
TZNAME:CET
DTSTART:20241027T010000
END:STANDARD
END:VTIMEZONE
BEGIN:VEVENT
DTSTART;TZID=Europe/Amsterdam:20240307T080000
DTEND;TZID=Europe/Amsterdam:20240313T120000
DTSTAMP:20260421T015615
CREATED:20240118T150320Z
LAST-MODIFIED:20240118T150320Z
UID:7337-1709798400-1710331200@www.uitinarnhem.nl
SUMMARY:Escape Xperience: de Mysterieuze Vermissing
DESCRIPTION:Met Escape Xperience beleef je de stad op een nieuwe\, leuke en interactieve manier. Het is als een escape room\, maar dan buiten in de stad! Het is een self-guided tour\, dus jullie kunnen starten wanneer jullie er klaar voor zijn. Met de app loop je door de stad terwijl je puzzels en raadsels oplost. Elke Xperience heeft een spannende verhaallijn\, waarbij je de hoofdpersoon helpt ontsnappen of een urgente missie helpt voltooien. \nTijdens deze Xperience beleef je Arnhem in het jaar 1717. De belangrijkste minister van Zweden is vermist en is voor het laatst gezien in Arnhem. Zijn dochter Henriette is naar de stad gekomen om hem te zoeken. Verspreid door het centrum vinden jullie aanwijzingen waardoor jullie kunnen ontdekken wat er gebeurd is. Lukt het jullie haar binnen 2 uur te helpen haar vader te vinden? \n
URL:https://www.uitinarnhem.nl/agenda/escape-xperience-de-mysterieuze-vermissing/
CATEGORIES:Actief,Kindvriendelijk,Overig
ATTACH;FMTTYPE=image/jpeg:https://www.uitinarnhem.nl/wp-content/uploads/2024/01/20230311_124625-minder-pixels-scaled-1.jpg
END:VEVENT
END:VCALENDAR