BEGIN:VCALENDAR
VERSION:2.0
PRODID:-//Uit in Arnhem - ECPv5.0.0.2//NONSGML v1.0//EN
CALSCALE:GREGORIAN
METHOD:PUBLISH
X-WR-CALNAME:Uit in Arnhem
X-ORIGINAL-URL:https://www.uitinarnhem.nl
X-WR-CALDESC:Events for Uit in Arnhem
BEGIN:VTIMEZONE
TZID:Europe/Amsterdam
BEGIN:DAYLIGHT
TZOFFSETFROM:+0100
TZOFFSETTO:+0200
TZNAME:CEST
DTSTART:20250330T010000
END:DAYLIGHT
BEGIN:STANDARD
TZOFFSETFROM:+0200
TZOFFSETTO:+0100
TZNAME:CET
DTSTART:20251026T010000
END:STANDARD
END:VTIMEZONE
BEGIN:VEVENT
DTSTART;TZID=Europe/Amsterdam:20250509T133000
DTEND;TZID=Europe/Amsterdam:20250509T160000
DTSTAMP:20260421T013141
CREATED:20250502T180559Z
LAST-MODIFIED:20250502T180559Z
UID:13201-1746797400-1746806400@www.uitinarnhem.nl
SUMMARY:Ernst Jansz in Museum Bronbeek
DESCRIPTION:Op vrijdagmiddag 9 mei treedt Ernst Jansz op in de Kumpulan van Museum Bronbeek met zijn nieuwe boek en album Een liefdeslied. ‘Liefdesverhalen zijn belangrijk. Ze geven hoop en tonen ons het mooiste dat de mens te bieden heeft.’ \nErnst Jansz’ nieuwe album Een liefdeslied vormt de soundtrack bij zijn gelijknamige nieuwe boek. Tijdens zijn optreden in Bronbeek leest Ernst stukken voor uit zijn boek en speelt hij de bijbehorende liedjes met zijn vaste begeleidingsband. Een liefdeslied vertelt het verhaal van Rudi en Jopie\, de ouders van de schrijver. Hun liefdesgeschiedenis speelt zich af tegen het decor van belangrijke politieke gebeurtenissen: de Tweede Wereldoorlog en de Indonesische onafhankelijkheidsoorlog. \nErnst Jansz wordt begeleid door Guus Paat\, gitaren en Richard Wallenburg\, bas. \nErnst Jansz\nIn de jaren zestig en zeventig speelde Ernst Jansz (1948) bij CCC Inc. en de Slumberlandband\, om vervolgens als oprichter\, toetsenist en zanger van Doe Maar grote bekendheid te verwerven. Na de opheffing van Doe Maar ontwikkelde hij zich als schrijver en sindsdien brengt hij zijn boeken met begeleidende soloalbums uit: Gideons droom en De overkant (over zijn Indische achtergrond)\, Molenbeekstraat (over zijn ouderlijk huis)\, Dromen van Johanna (vertaalde liedjes van Bob Dylan)\, De Neerkant (over de sixties en seventies) en dan nu Een liefdeslied. \nProgramma\n13:30 uur: inloop\n14:00 uur: optreden (1)\n14:45 uur: pauze\n15:15 uur: optreden (2)\n16:00 uur: einde \nGoed om te weten\nAanmelden is noodzakelijk via loket.bronbeek@mindef.nl.\nDe lezing vindt plaats in de Kumpulan\nToegang tot de lezing is gratis.\nOok naar het museum? Koop dan een kaartje bij de receptie. \n
URL:https://www.uitinarnhem.nl/agenda/ernst-jansz-in-museum-bronbeek/
LOCATION:Museum Bronbeek\, Velperweg 147\, Arnhem\, 6824 MB\, Nederland
CATEGORIES:Muziek
ATTACH;FMTTYPE=image/jpeg:https://www.uitinarnhem.nl/wp-content/uploads/2025/05/ernst-jansz-foto-mark-uyl-1240x814-1.jpeg
END:VEVENT
END:VCALENDAR