BEGIN:VCALENDAR
VERSION:2.0
PRODID:-//Uit in Arnhem - ECPv5.0.0.2//NONSGML v1.0//EN
CALSCALE:GREGORIAN
METHOD:PUBLISH
X-WR-CALNAME:Uit in Arnhem
X-ORIGINAL-URL:https://www.uitinarnhem.nl
X-WR-CALDESC:Events for Uit in Arnhem
BEGIN:VTIMEZONE
TZID:Europe/Amsterdam
BEGIN:DAYLIGHT
TZOFFSETFROM:+0100
TZOFFSETTO:+0200
TZNAME:CEST
DTSTART:20200329T010000
END:DAYLIGHT
BEGIN:STANDARD
TZOFFSETFROM:+0200
TZOFFSETTO:+0100
TZNAME:CET
DTSTART:20201025T010000
END:STANDARD
END:VTIMEZONE
BEGIN:VEVENT
DTSTART;TZID=Europe/Amsterdam:20200129T190000
DTEND;TZID=Europe/Amsterdam:20200129T190000
DTSTAMP:20260421T061411
CREATED:20200128T131416Z
LAST-MODIFIED:20200128T142726Z
UID:4731-1580324400-1580324400@www.uitinarnhem.nl
SUMMARY:Een brutaal kinderconcert voor jong en oud
DESCRIPTION:Theater Gnaffel en ons orkest\, dat belooft avontuur voor jong en oud in Arnhem Laat je meeslepen in dit komische en brutale sprookje van Mark Haayema. Grappig\, ontroerend en met herkenbare klassieke melodieën. De poppen zijn van Elout Hol\, de muziek van Henk van der Schalk. Kinderen\, ouders en grootouders\, kom samen genieten van een heerlijke kinderconcert! \n\n\n\n\n\n\n\n\n\n\n\n\n
URL:https://www.uitinarnhem.nl/agenda/een-brutaal-kinderconcert-voor-jong-en-oud/
ATTACH;FMTTYPE=image/jpeg:https://www.uitinarnhem.nl/wp-content/uploads/2017/11/11A4978©EvaBroekema-e1509549269712.jpg
END:VEVENT
END:VCALENDAR