BEGIN:VCALENDAR
VERSION:2.0
PRODID:-//Uit in Arnhem - ECPv5.0.0.2//NONSGML v1.0//EN
CALSCALE:GREGORIAN
METHOD:PUBLISH
X-WR-CALNAME:Uit in Arnhem
X-ORIGINAL-URL:https://www.uitinarnhem.nl
X-WR-CALDESC:Events for Uit in Arnhem
BEGIN:VTIMEZONE
TZID:Europe/Amsterdam
BEGIN:DAYLIGHT
TZOFFSETFROM:+0100
TZOFFSETTO:+0200
TZNAME:CEST
DTSTART:20250330T010000
END:DAYLIGHT
BEGIN:STANDARD
TZOFFSETFROM:+0200
TZOFFSETTO:+0100
TZNAME:CET
DTSTART:20251026T010000
END:STANDARD
END:VTIMEZONE
BEGIN:VEVENT
DTSTART;TZID=Europe/Amsterdam:20250601T120000
DTEND;TZID=Europe/Amsterdam:20250601T200000
DTSTAMP:20260421T051414
CREATED:20250522T141343Z
LAST-MODIFIED:20250522T141343Z
UID:13281-1748779200-1748808000@www.uitinarnhem.nl
SUMMARY:DorenFest in hartje Doorwerth
DESCRIPTION:Het DorenFest is in aantocht: het festival vóór en dóór de inwoners van Doorwerth en Heveadorp en andere belangstellenden. \nOp zondag 1 juni zullen van 12:00 tot 20:00 uur zo’n 30 kramen midden in het dorp zich vullen met informatie over de verschillende verenigingen uit en rond Doorwerth. Dat wil niemand missen tijdens dit gratis festival: het DorenFest! Tijdens deze verenigingenmarkt kan iedereen kennismaken met al het moois en leuks van wat er in de dorpen allemaal te doen is. De markt is onderdeel van een groter festival met bands en Dj’s. Deze artiesten komen bijna allemaal uit Doorwerth en omgeving. \nTop bands on stage!\nReflexion\, Kick some Kinks\, Stapled\, Garden State en DJ Marvin Dekker zullen het podium betreden. \n12:15 Kick some Kinks. De Arnhemse band KicK some KinKs brengt een eerbetoon aan een van de meest invloedrijke Britse rockbands aller tijden: The Kinks.\n14:00 Reflexion brengt hoogtepunten uit de popgeschiedenis tot leven!\n16:00 Stapled. Gospel\, Soul\, Blues en een vleugje Funk vormen de basis van STAPLED!\n18:00 Garden State Garden State is een indrukwekkende formatie van maar liefst dertien topmuzikanten die samen één missie hebben: het eerbetoon brengen aan de rauwe\, soulvolle rock ‘n’ roll uit New Jersey. \nEn alsof dat nog niet genoeg is; twee springkussens voor de jongste inwoners en een hoogwerker van de Doorwerthse brandweer voor de wat oudere jeugd.\nDat alles wordt afgewisseld met demonstraties van verschillende verenigingen. Ook wordt de inwendige mens niet vergeten met warme (uit Ons Middelpunt) en koude dranken\, snacks en maaltijden uit drank- en foodtrucks. \nHet festijn zal worden geopend door wethouder Daniëlle van Bentem. Het DorenFest speelt zich af in de buurt van Ons Middelpunt: Mozartlaan 2\, 6865 GB Doorwerth \nVoor meer informatie: www.dorenfest.nl \n
URL:https://www.uitinarnhem.nl/agenda/dorenfest-in-hartje-doorwerth/
LOCATION:Ons Middelpunt\, Mozartlaan 2\, Doorwerth\, 6865 GB\, Nederland
CATEGORIES:Festival,Kindvriendelijk,Muziek
ATTACH;FMTTYPE=image/jpeg:https://www.uitinarnhem.nl/wp-content/uploads/2025/05/poster-Dorenfest-2025-1.jpg
END:VEVENT
END:VCALENDAR