BEGIN:VCALENDAR
VERSION:2.0
PRODID:-//Uit in Arnhem - ECPv5.0.0.2//NONSGML v1.0//EN
CALSCALE:GREGORIAN
METHOD:PUBLISH
X-WR-CALNAME:Uit in Arnhem
X-ORIGINAL-URL:https://www.uitinarnhem.nl
X-WR-CALDESC:Events for Uit in Arnhem
BEGIN:VTIMEZONE
TZID:Europe/Amsterdam
BEGIN:DAYLIGHT
TZOFFSETFROM:+0100
TZOFFSETTO:+0200
TZNAME:CEST
DTSTART:20200329T010000
END:DAYLIGHT
BEGIN:STANDARD
TZOFFSETFROM:+0200
TZOFFSETTO:+0100
TZNAME:CET
DTSTART:20201025T010000
END:STANDARD
END:VTIMEZONE
BEGIN:VEVENT
DTSTART;TZID=Europe/Amsterdam:20200307T193000
DTEND;TZID=Europe/Amsterdam:20200307T213000
DTSTAMP:20260421T061413
CREATED:20200128T115109Z
LAST-MODIFIED:20200227T095029Z
UID:4673-1583609400-1583616600@www.uitinarnhem.nl
SUMMARY:Doldwaze dansvoorstelling voor 6-plussers
DESCRIPTION:Met de vrolijke\, doldwaze familievoorstelling ‘GEK GEZICHT’ (6+)  richt Introdans de schijnwerpers op de choreografen Alexander Ekman en David Middendorp. Beiden hebben een heel eigen stijl en bijzondere werkwijze. Beiden staan bekend om de heerlijke\, aanstekelijke humor in hun producties. En beiden zijn internationaal buitengewoon succesvol. De Zweed Alexander Ekman wordt vooral geroemd om zijn meesterlijke timing en de theatrale gekkigheid in zijn choreografieën. \n\n\n
URL:https://www.uitinarnhem.nl/agenda/doldwaze-dansvoorstelling-voor-6-plussers/2020-03-07/
LOCATION:Stadstheater Arnhem\, Velperbinnensingel 10\, Arnhem\, 6811 BP\, Nederland
CATEGORIES:Theater
ATTACH;FMTTYPE=image/jpeg:https://www.uitinarnhem.nl/wp-content/uploads/2020/01/gek-gezicht_2020_ls_960x676px_-introdans_hanswithoos_rgb.jpg
END:VEVENT
END:VCALENDAR