BEGIN:VCALENDAR
VERSION:2.0
PRODID:-//Uit in Arnhem - ECPv5.0.0.2//NONSGML v1.0//EN
CALSCALE:GREGORIAN
METHOD:PUBLISH
X-WR-CALNAME:Uit in Arnhem
X-ORIGINAL-URL:https://www.uitinarnhem.nl
X-WR-CALDESC:Events for Uit in Arnhem
BEGIN:VTIMEZONE
TZID:Europe/Amsterdam
BEGIN:DAYLIGHT
TZOFFSETFROM:+0100
TZOFFSETTO:+0200
TZNAME:CEST
DTSTART:20200329T010000
END:DAYLIGHT
BEGIN:STANDARD
TZOFFSETFROM:+0200
TZOFFSETTO:+0100
TZNAME:CET
DTSTART:20201025T010000
END:STANDARD
END:VTIMEZONE
BEGIN:VEVENT
DTSTART;TZID=Europe/Amsterdam:20200316T200000
DTEND;TZID=Europe/Amsterdam:20200316T220000
DTSTAMP:20260421T034952
CREATED:20200302T101500Z
LAST-MODIFIED:20200302T101906Z
UID:5225-1584388800-1584396000@www.uitinarnhem.nl
SUMMARY:De Verschrikkelijke Wittgenstein - BELLEVUE PRODUCTIES / ROELAND HOFMAN
DESCRIPTION:Martijn Nieuwerf vertolkt titelrol in zwartgallige komedie van Roeland Hofman: De Verschrikkelijke Wittgenstein. De landelijke premiere is op maandag 16 maart\, in Theater aan de Rijn in Arnhem. \n\n\n\nPaul Wittgenstein is een tiran. De eenarmige concertpianist* gelooft heilig in de verheffende waarden van muziek en kunst. Met iedereen die het hier niet mee eens is heeft hij zeer weinig geduld… \nElke zondag geeft Wittgenstein les aan huis. Zo ook aan de verwende kinderen Charlie en Mathilda. De verwende pubers zijn zó klaar met de ouderwetse ideologieën van de eenarmige pianotiran dat ze – tijdens de zoveelste pianoles – besluiten een gewelddadige punt te willen zetten achter de ellendige indoctrinatie. \nWat volgt is een spel vol vileine intriges\, verfijnde scheldpartijen en botsende opvattingen over het belang van vingeroefeningen. Op slinkse wijze manoeuvreert butler Stiglitz door dit tragikomische schouwspel. \nEen spel dat slechts kan eindigen met een dramatisch slotakkoord… \nDe Verschrikkelijke Wittgenstein beschrijft een komische titanenstrijd tussen twee generaties. Paul Wittgenstein is een onbeholpen vertegenwoordiger van een verloren beschaving\, het oude Habsburgse Europa. Hij weet wat schoonheid is\, en is er van doordrongen dat je daar moeite voor moet doen. Zijn pupillen zijn echter kinderen van De Nieuwe Wereld en het Amerikaanse kapitalisme. Zij moeten daar niets van hebben. \n\nOver Roeland Hofman\nRoeland Hofman (1982) is theaterregisseur en -schrijver. Hij werkte eerder bij o.a. Toneelgroep Oostpool\, De Toneelmakerij\, Het Zuidelijk Toneel en Generale Oost. In zijn voorstellingen onderzoekt hij de functie van de taal en de groeiende invloed van het individualisme in de hedendaagse maatschappij.\n\n*Pianist Paul Wittgenstein\, broer van filosoof Ludwig Wittgenstein\, verloor in de Eerste Wereldoorlog zijn rechterarm\, en liet componisten als Strauss\, Ravel en Prokofiev pianostukken voor alléén de linkerhand schrijven.\n
URL:https://www.uitinarnhem.nl/agenda/de-verschrikkelijke-wittgenstein-bellevue-producties-roeland-hofman/
LOCATION:Theater aan de Rijn\, Rijnstraat 42\, Arnhem\, 6811 EX\, Nederland
CATEGORIES:Muziek,Theater
ATTACH;FMTTYPE=image/jpeg:https://www.uitinarnhem.nl/wp-content/uploads/2020/03/DeVerschrikkelijkeWittgenstein-Bellevue-08-Foto-Ben-van-Duin-klein.jpg
END:VEVENT
END:VCALENDAR