BEGIN:VCALENDAR
VERSION:2.0
PRODID:-//Uit in Arnhem - ECPv5.0.0.2//NONSGML v1.0//EN
CALSCALE:GREGORIAN
METHOD:PUBLISH
X-WR-CALNAME:Uit in Arnhem
X-ORIGINAL-URL:https://www.uitinarnhem.nl
X-WR-CALDESC:Events for Uit in Arnhem
BEGIN:VTIMEZONE
TZID:Europe/Amsterdam
BEGIN:DAYLIGHT
TZOFFSETFROM:+0100
TZOFFSETTO:+0200
TZNAME:CEST
DTSTART:20250330T010000
END:DAYLIGHT
BEGIN:STANDARD
TZOFFSETFROM:+0200
TZOFFSETTO:+0100
TZNAME:CET
DTSTART:20251026T010000
END:STANDARD
END:VTIMEZONE
BEGIN:VEVENT
DTSTART;TZID=Europe/Amsterdam:20250328T100000
DTEND;TZID=Europe/Amsterdam:20250330T170000
DTSTAMP:20260421T113318
CREATED:20250217T102154Z
LAST-MODIFIED:20250217T102154Z
UID:12463-1743156000-1743354000@www.uitinarnhem.nl
SUMMARY:De Moestuinbeurs op Landgoed Middachten
DESCRIPTION:Foto: Beryl van der Mossel\nDe derde editie van De Moestuinbeurs strijkt van 28 t/m 30 maart 2025 neer op Landgoed Middachten (De Steeg\, Gelderland). Wat begon als een kleinschalig evenement\, is inmiddels uitgegroeid tot een belangrijke jaarlijkse ontmoetingsplek voor iedereen met interesse in eetbare tuinen. Met meer dan 100 standhouders\, nieuwe programmaonderdelen en een verwachte opkomst van 10.000 tot 12.000 bezoekers\, biedt De Moestuinbeurs drie dagen vol kennis en inspiratie rondom moestuinieren. \nBewustwording via inspiratie\nVia moestuinieren wil de organisatie de bewustwording rondom voedsel vergroten en de verbinding met natuur en voedsel helpen herstellen. Dat gebeurt met lezingen\, wildplukwandelingen\, live-demonstraties\, theatervoorstellingen en workshops\, maar ook met speeddates! Initiatiefnemer Dieke Wissing vertelt: ‘Tijdens deze 1-op-1 sessies krijgen bezoekers binnen 10 minuten advies van experts over bijvoorbeeld permacultuur of het ontwerpen van hun eerste moestuin.’ In het uitgebreide programma komen thema’s als klimaatadaptief tuinieren\, bodemgezondheid\, fermenteren en voedselbossen aan bod. Voor kinderen is er een speciaal programma met zowel educatieve als creatieve activiteiten. Daarnaast worden er rondleidingen georganiseerd door de tuinen van Landgoed Middachten en het kasteel. \nMeer dan 100 standhouders uit Nederland en België\nHet aantal standhouders groeit mee met de beurs. Bezoekers kunnen kennismaken met een breed aanbod van producten: van zeldzame zaden en eetbare planten bij specialistische kwekers tot duurzame moestuinbakken\, tuinkassen en biologische tuinaarde bij de grotere merken. Partners van deze editie zijn Bio-Kultura\, Ecotuintje en Plukkers.com\, die bezoekers inspireren met hun kennis en hun nieuwste producten. Zowel vertrouwde namen als nieuwe bedrijven\, groot en klein\, maken deel\nuit van het diverse deelnemersaanbod. \nOver De Moestuinbeurs\nDe Moestuinbeurs is een initiatief van Kirsten Bergkotte en Dieke Wissing. Het staat volledig in het teken van producten\, merken\, informatie en inspiratie rondom moestuinieren. Het evenement vindt plaats van 28 t/m 30 maart 2025 op Landgoed Middachten en is geopend van 10.00 tot 17.00 uur.\nStandaard tickets zijn verkrijgbaar voor €16\,50. \nMeer informatie is te vinden op:\nWebsite: http://www.demoestuinbeurs.nl\nInstagram: http://www.instagram.com/demoestuinbeurs\nTickets: http://www.demoestuinbeurs.nl/tickets \n
URL:https://www.uitinarnhem.nl/agenda/de-moestuinbeurs-op-landgoed-middachten/
LOCATION:Landgoed Middachten\, Landgoed Middachten 3 0\, DE STEEG\, 6994 JC\, Nederland
CATEGORIES:Actief,Beurs,Informatief & Verrijking,Overig
ATTACH;FMTTYPE=image/jpeg:https://www.uitinarnhem.nl/wp-content/uploads/2025/02/De-Moestuinbeurs-2025.jpg
END:VEVENT
END:VCALENDAR