BEGIN:VCALENDAR
VERSION:2.0
PRODID:-//Uit in Arnhem - ECPv5.0.0.2//NONSGML v1.0//EN
CALSCALE:GREGORIAN
METHOD:PUBLISH
X-WR-CALNAME:Uit in Arnhem
X-ORIGINAL-URL:https://www.uitinarnhem.nl
X-WR-CALDESC:Events for Uit in Arnhem
BEGIN:VTIMEZONE
TZID:Europe/Amsterdam
BEGIN:DAYLIGHT
TZOFFSETFROM:+0100
TZOFFSETTO:+0200
TZNAME:CEST
DTSTART:20240331T010000
END:DAYLIGHT
BEGIN:STANDARD
TZOFFSETFROM:+0200
TZOFFSETTO:+0100
TZNAME:CET
DTSTART:20241027T010000
END:STANDARD
END:VTIMEZONE
BEGIN:VEVENT
DTSTART;TZID=Europe/Amsterdam:20240831T100000
DTEND;TZID=Europe/Amsterdam:20240901T180000
DTSTAMP:20260421T072739
CREATED:20240826T102111Z
LAST-MODIFIED:20240826T102111Z
UID:10517-1725098400-1725213600@www.uitinarnhem.nl
SUMMARY:Concours Hippique Lingezegen 2024 in Park Lingezegen
DESCRIPTION:Foto: Park Lingezegen\nConcours Hippique Lingezegen is terug en brengt ook dit jaar twee dagen paardensport naar Park Lingezegen! Het beloven weer twee prachtige dagen te worden voor iedereen die van paardensport houdt. Met wedstrijdelementen\, een stro-dorp\, een kleine markt en een gezellig hapje en een drankje is er voor iedereen wat wils. \nZaterdag 31 augustus\nZaterdag staat in het teken van de dressuur paarden en pony’s in de klassen B t/m M2 voor zowel de wedstrijdruiter als de amateur ruiter (zonder startkaart). De amateur ruiters kunnen op deze manier kennismaken met de wedstrijdsport en ervaren hoe het is om onder officiële omstandigheden een proef te rijden. \nOok zijn er Bixie rubrieken\, zowel springen als dressuur en een verkleedparade voor de allerkleinste\, 3 tot 8 jaar. Bixie is speciaal voor de allerkleinste\, hulp van ouders is toegestaan. \nZondag 1 september\nZondag staat in het teken van de aangespannen sport met hackneys\, Friezen\, Shetlanders en tuigpaarden. Er staan dit jaar meerdere kampioensrubrieken op het programma waaronder de gig class! Dit zijn prachtige tweewielige wagens. De aanspanningen zijn er in enkelspan\, tweespan en tandem. \nPraktische informatie\nConcours Hippique Lingezegen vindt plaats op het evenemententerrein van Park Lingezegen\, De Park 10 te Elst Gld. 10:00-18:00 uur. Toegang is voor bezoekers gratis \n
URL:https://www.uitinarnhem.nl/agenda/concours-hippique-lingezegen-2024-in-park-lingezegen/
LOCATION:Park Lingezegen\, De Park 10\, Elst\, 6661NW\, Nederland
CATEGORIES:Actief,Kindvriendelijk,Sport
ATTACH;FMTTYPE=image/jpeg:https://www.uitinarnhem.nl/wp-content/uploads/2024/08/IVH-3468-20230903-1024x683-1.jpg
END:VEVENT
END:VCALENDAR