BEGIN:VCALENDAR
VERSION:2.0
PRODID:-//Uit in Arnhem - ECPv5.0.0.2//NONSGML v1.0//EN
CALSCALE:GREGORIAN
METHOD:PUBLISH
X-WR-CALNAME:Uit in Arnhem
X-ORIGINAL-URL:https://www.uitinarnhem.nl
X-WR-CALDESC:Events for Uit in Arnhem
BEGIN:VTIMEZONE
TZID:Europe/Amsterdam
BEGIN:DAYLIGHT
TZOFFSETFROM:+0100
TZOFFSETTO:+0200
TZNAME:CEST
DTSTART:20240331T010000
END:DAYLIGHT
BEGIN:STANDARD
TZOFFSETFROM:+0200
TZOFFSETTO:+0100
TZNAME:CET
DTSTART:20241027T010000
END:STANDARD
END:VTIMEZONE
BEGIN:VEVENT
DTSTART;TZID=Europe/Amsterdam:20241027T150000
DTEND;TZID=Europe/Amsterdam:20241027T170000
DTSTAMP:20260421T140543
CREATED:20241020T162638Z
LAST-MODIFIED:20241022T110039Z
UID:11177-1730041200-1730048400@www.uitinarnhem.nl
SUMMARY:Concert van operazanger Igor Popov in Oosterbeek
DESCRIPTION:Operazanger Igor Popov bezoekt op 27 oktober voor de tweede keer De EventTheater Concertzaal Oosterbeek. Dit keer komt hij met een nieuw programma getiteld ‘Hare Hoogheid Het Lied’. \nHet nieuwe programma bestaat uit vier delen. De eerste twee delen bevatten 10 zorgvuldig geselecteerde liederen van Wolfgang Amadeus Mozart. Sommige hiervan zullen ongetwijfeld voor het eerst uitgevoerd worden door een lage stem\, wat een unieke ervaring belooft. Het derde en het vierde deel van het concert bestaan uit 10 geselecteerde Oekraïense en Russische volksliederen. \nMozarts verfijnde delicate stijl\, de lyrische schoonheid van de Oekraïense muziek en de diepe emotie van het Russische volkslied bewijzen dat het genre Lied terecht Hare Hoogheid genoemd kan worden. Om het programma nog meer afwisseling te geven zal de pianiste Gulmira Issabekova een aantal prachtige solopianowerken ten gehore brengen. \n\n\n\n\n\n\nKaarten zijn online en aan de kassa verkrijgbaar. Ga naar www.igorpopov.nl. Het concert begint om 15.00 uur.\n\n\n\n\n\n\n
URL:https://www.uitinarnhem.nl/agenda/concert-van-operazanger-igor-popov-in-oosterbeek/
LOCATION:EventTheater Concertzaal Oosterbeek\, Rozensteeg 3\, Oosterbeek\, 6862 DH\, Nederland
CATEGORIES:Muziek,Opera
ATTACH;FMTTYPE=image/jpeg:https://www.uitinarnhem.nl/wp-content/uploads/2024/10/IMG_0453.jpg
END:VEVENT
END:VCALENDAR