BEGIN:VCALENDAR
VERSION:2.0
PRODID:-//Uit in Arnhem - ECPv5.0.0.2//NONSGML v1.0//EN
CALSCALE:GREGORIAN
METHOD:PUBLISH
X-WR-CALNAME:Uit in Arnhem
X-ORIGINAL-URL:https://www.uitinarnhem.nl
X-WR-CALDESC:Events for Uit in Arnhem
BEGIN:VTIMEZONE
TZID:Europe/Amsterdam
BEGIN:DAYLIGHT
TZOFFSETFROM:+0100
TZOFFSETTO:+0200
TZNAME:CEST
DTSTART:20250330T010000
END:DAYLIGHT
BEGIN:STANDARD
TZOFFSETFROM:+0200
TZOFFSETTO:+0100
TZNAME:CET
DTSTART:20251026T010000
END:STANDARD
END:VTIMEZONE
BEGIN:VEVENT
DTSTART;TZID=Europe/Amsterdam:20250919T200000
DTEND;TZID=Europe/Amsterdam:20250919T210000
DTSTAMP:20260421T044241
CREATED:20250803T180238Z
LAST-MODIFIED:20250803T180238Z
UID:13549-1758312000-1758315600@www.uitinarnhem.nl
SUMMARY:Collectief Blauwdruk bij Theater a/d Rijn
DESCRIPTION:Recht op de hemel is een rauwe en radicale bewerking van Joost van de Vondel’s Lucifer. Een larger-than-life locatievoorstelling midden in Arnhem op het binnenplein van Theater a/d Rijn waarin BLAUWDRUK het publiek confronteert met hoe de mens omgaat met het verliezen van zijn privileges. \nLet op: Deze voorstelling vindt plaats op het binnenplein van Theater a/d Rijn. De try-outs zijn op 12 en 13 september om 20:00 uur\, gevolgd door de reguliere voorstelling op 19 september om 20:00 uur en 20 september om 15:00 uur. \nHoe verhouden recht en privilege zich tot elkaar? Hoeveel rechten of privileges kan een mens verliezen voordat hij in opstand komt? Wanneer is dat terecht? En hoe bepalen we\, in deze gepolariseerde wereld-zonder-waarheid\, wat recht is? \nIn Recht op de hemel zet collectief BLAUWDRUK de thema’s identiteit\, privilege en gelijkwaardigheid centraal tegen de achtergrond van het plotselinge overlijden van God. Na deze hemel schokkende gebeurtenis storten de geprivilegieerde engelen op aarde en moeten daar opnieuw duiden wie zij zijn. In het machtsvacuüm dat hierbij ontstaat\, raken ze met elkaar én zichzelf in conflict tijdens het bouwen van hun nieuwe hemel op aarde. \nPraktische informatie:\nFoyer open: 19.00 uur\nAanvang voorstelling: 20.00 uur\nVerwacht einde: 21.00 uur\nLocatie: Deze voorstelling vindt plaats op het binnenplein voor Theater a/d Rijn. \n
URL:https://www.uitinarnhem.nl/agenda/collectief-blauwdruk-bij-theater-a-d-rijn-3/
LOCATION:Theater aan de Rijn\, Rijnstraat 42\, Arnhem\, 6811 EX\, Nederland
CATEGORIES:Overig,Theater
ATTACH;FMTTYPE=image/jpeg:https://www.uitinarnhem.nl/wp-content/uploads/2025/08/Mogelijke-Poster-2-1600x660-1.jpg
END:VEVENT
END:VCALENDAR