BEGIN:VCALENDAR
VERSION:2.0
PRODID:-//Uit in Arnhem - ECPv5.0.0.2//NONSGML v1.0//EN
CALSCALE:GREGORIAN
METHOD:PUBLISH
X-WR-CALNAME:Uit in Arnhem
X-ORIGINAL-URL:https://www.uitinarnhem.nl
X-WR-CALDESC:Events for Uit in Arnhem
BEGIN:VTIMEZONE
TZID:Europe/Amsterdam
BEGIN:DAYLIGHT
TZOFFSETFROM:+0100
TZOFFSETTO:+0200
TZNAME:CEST
DTSTART:20250330T010000
END:DAYLIGHT
BEGIN:STANDARD
TZOFFSETFROM:+0200
TZOFFSETTO:+0100
TZNAME:CET
DTSTART:20251026T010000
END:STANDARD
END:VTIMEZONE
BEGIN:VEVENT
DTSTART;TZID=Europe/Amsterdam:20250807T150000
DTEND;TZID=Europe/Amsterdam:20250807T183000
DTSTAMP:20260421T034603
CREATED:20250711T172012Z
LAST-MODIFIED:20250711T172012Z
UID:13457-1754578800-1754591400@www.uitinarnhem.nl
SUMMARY:Circusdag in park Sonsbeek
DESCRIPTION:Op donderdag 7 augustus organiseert het EJC (European Juggling Convention) een dag in Park Sonsbeek in Arnhem. Hier zie je meerdere shows en wedstrijden van duizenden circusartiesten en kun je gezellig picknicken bij de food trucks. Dit evenement is gratis en voor iedereen toegankelijk! \nOm 15:00 uur begint er op het basketbalveld een bijzondere show waarin twee artiesten jongleren combineren met poppenspel. \nEven later\, van 16:00 tot 16:20 uur\, kun je bij de Villa van Park Sonsbeek genieten van een tweede voorstelling. Deze voorstelling gaat over vijf indrukwekkende jongleurs. \nAls afsluiter zijn van 17:00 tot 18:30 uur de Games in het park. Tijdens dit evenement nemen deelnemers van het EJC het tegen elkaar op in een reeks circuswedstrijden. Denk aan uitdagingen zoals zo lang mogelijk in een handstand blijven staan\, vijf ballen jongleren\, of zes kegels over een grote afstand overgooien. Het belooft een gezellige competitie te worden\, waarin je kunt meedoen\, aanmoedigen of gewoon genieten van de sfeer en het spektakel. \n
URL:https://www.uitinarnhem.nl/agenda/circusdag-in-park-sonsbeek/
LOCATION:Sonsbeekpark\, Tellegenlaan 3\, Arnhem\, 6814BT
CATEGORIES:Actief,Kindvriendelijk,Sport
ATTACH;FMTTYPE=image/png:https://www.uitinarnhem.nl/wp-content/uploads/2025/07/tall_tales.png
END:VEVENT
END:VCALENDAR