BEGIN:VCALENDAR
VERSION:2.0
PRODID:-//Uit in Arnhem - ECPv5.0.0.2//NONSGML v1.0//EN
CALSCALE:GREGORIAN
METHOD:PUBLISH
X-WR-CALNAME:Uit in Arnhem
X-ORIGINAL-URL:https://www.uitinarnhem.nl
X-WR-CALDESC:Events for Uit in Arnhem
BEGIN:VTIMEZONE
TZID:Europe/Amsterdam
BEGIN:DAYLIGHT
TZOFFSETFROM:+0100
TZOFFSETTO:+0200
TZNAME:CEST
DTSTART:20250330T010000
END:DAYLIGHT
BEGIN:STANDARD
TZOFFSETFROM:+0200
TZOFFSETTO:+0100
TZNAME:CET
DTSTART:20251026T010000
END:STANDARD
END:VTIMEZONE
BEGIN:VEVENT
DTSTART;TZID=Europe/Amsterdam:20251213T090000
DTEND;TZID=Europe/Amsterdam:20251214T170000
DTSTAMP:20260421T040428
CREATED:20251118T102223Z
LAST-MODIFIED:20251118T102223Z
UID:13801-1765616400-1765731600@www.uitinarnhem.nl
SUMMARY:Christmas-Express vanaf station Arnhem Centraal
DESCRIPTION:Dé kans voor jong en oud om de natuur van de Veluwe vanuit een comfortabel verwarmde stoomtrein te beleven. Het is een unieke beleving om per stoomtrein het water over te steken bij de Rijnbrug (Oosterbeek) en de Waalbrug (Nijmegen). 13 en 14 december kan jij ook mee. \nWanneer de stoomtrein dampend en puffend met twee grote stoomlocomotieven klaarstaat langs het perron op het station van Arnhem Centraal\, komen de witte stoompluimen al onder de historische rijtuigen vandaan. Deze worden nog ouderwets verwarmd met stoom uit de grote stoomlocomotief. De conducteurs in historische kledij staan je al op te wachten om te assisteren bij het instappen. \nDan klinkt het vertreksein voor een winterse beleving zoals in vroeger dagen. De locomotief en haar sleep rijtuigen hullen zich tijdens het vertrek in wolken van stoom. Terwijl de trein op snelheid komt kunt u genieten van het prachtige uitzicht tussen Arnhem en het station van Nijmegen. Na een korte stop op dit station\, zal de stoomtrein weer met een aardig gangetje terugrijden naar het station van Arnhem Centraal waar je weer uit kunt stappen en je weg kunt vervolgen. \nOnderweg klinkt keer op keer de stoomfluit\, je waant je in een andere tijd terwijl wij met onze stoomtrein tussen alle reguliere treinen door rijden. \nTarieven\nEén kaartje voor een volwassenen kost € 22\,50\, hiermee reis je met de stoomtrein van Arnhem CS naar Nijmegen en direct weer terug naar Arnhem CS. Voor kinderen van 4 t/m 11 jaar kost een kaartje €12\,00\, kinderen t/m 3 jaar reizen gratis (op schoot) mee. De trein is helaas niet rolstoeltoegankelijk\, kinderwagens kunnen uitsluitend ingeklapt mee worden genomen. \nVoor meer informatie en tickets (reserveren verplicht): https://stoomtrein.org/christmas-express/ \n
URL:https://www.uitinarnhem.nl/agenda/christmas-express-vanaf-station-arnhem-centraal/
LOCATION:Station Arnhem Centraal\, Centraal Station Arnhem\, Arnhem\, 6811 KM Arnhem
CATEGORIES:Actief,Kindvriendelijk,Overig
ATTACH;FMTTYPE=image/jpeg:https://www.uitinarnhem.nl/wp-content/uploads/2025/11/christmass_express_2023-768x452-1.jpg
END:VEVENT
END:VCALENDAR