BEGIN:VCALENDAR
VERSION:2.0
PRODID:-//Uit in Arnhem - ECPv5.0.0.2//NONSGML v1.0//EN
CALSCALE:GREGORIAN
METHOD:PUBLISH
X-WR-CALNAME:Uit in Arnhem
X-ORIGINAL-URL:https://www.uitinarnhem.nl
X-WR-CALDESC:Events for Uit in Arnhem
BEGIN:VTIMEZONE
TZID:Europe/Amsterdam
BEGIN:DAYLIGHT
TZOFFSETFROM:+0100
TZOFFSETTO:+0200
TZNAME:CEST
DTSTART:20250330T010000
END:DAYLIGHT
BEGIN:STANDARD
TZOFFSETFROM:+0200
TZOFFSETTO:+0100
TZNAME:CET
DTSTART:20251026T010000
END:STANDARD
END:VTIMEZONE
BEGIN:VEVENT
DTSTART;TZID=Europe/Amsterdam:20250602T200000
DTEND;TZID=Europe/Amsterdam:20250602T223000
DTSTAMP:20260421T051342
CREATED:20250218T184618Z
LAST-MODIFIED:20250218T184618Z
UID:12501-1748894400-1748903400@www.uitinarnhem.nl
SUMMARY:Chanson in Musis Arnhem
DESCRIPTION:\nStap in de wereld van meeslepende melodieën\, poëtische teksten en tijdloze klassiekers met het theaterconcert Chanson. Laat je meevoeren op de prachtige klanken van La vie en rose\, La Bohème en Ne me quitte pas. De meesterwerken van grootheden als Édith Piaf\, Charles Aznavour en Jacques Brel.    \n\n\nChanson is een groots theaterconcert met een indrukwekkend ensemble van negentien musici en solisten. Samen presenteren ze een eerbetoon aan dit immens populaire genre. Dit is misschien wel de grootste voorstelling rond Franse chansons die ooit in Nederland te zien was. Het concert is de ultieme hommage aan het Franse lied en neemt je mee naar de straten van Parijs.   \nDompel jezelf onder in een avond vol passie\, melancholie en romantiek. Herbeleef de liederen die generaties hebben geraakt en ontdek de kracht van dit tijdloze genre in een spectaculaire theaterproductie.    \nChanson – een muzikaal eerbetoon dat je niet wilt missen!\nDe voorstelling Chanson is inmiddels ruim een jaar in voorbereiding en in 2025 exclusief te zien in een aantal Nederlandse theaters. Alle chansons worden in de originele uitvoeringen gespeeld door een groot orkest onder leiding van Hans Voerman\, inclusief blazers en een strijkersensemble. De solisten zijn stuk voor stuk specialisten in dit bijzondere genre. De regie van de voorstelling komt voor rekening van Marc Forno\, voormalig danser van het iconische Parijse theater Folies Bergère en kenner van dit metier.   \nKijk voor meer informatie en tickets op: https://www.musisenstadstheater.nl/programma/chanson/9208 \n\n
URL:https://www.uitinarnhem.nl/agenda/chanson-in-musis-arnhem/
LOCATION:Musis\, Velperbinnensingel 15\, Arnhem\, 6811BP\, Nederland
CATEGORIES:Muziek
ATTACH;FMTTYPE=image/jpeg:https://www.uitinarnhem.nl/wp-content/uploads/2025/02/CHANSON-TheaterNL-1173x530px__ScaleMaxWidthWzE1MDBd_CompressedW10.jpg
END:VEVENT
END:VCALENDAR