BEGIN:VCALENDAR
VERSION:2.0
PRODID:-//Uit in Arnhem - ECPv5.0.0.2//NONSGML v1.0//EN
CALSCALE:GREGORIAN
METHOD:PUBLISH
X-WR-CALNAME:Uit in Arnhem
X-ORIGINAL-URL:https://www.uitinarnhem.nl
X-WR-CALDESC:Events for Uit in Arnhem
BEGIN:VTIMEZONE
TZID:Europe/Amsterdam
BEGIN:DAYLIGHT
TZOFFSETFROM:+0100
TZOFFSETTO:+0200
TZNAME:CEST
DTSTART:20240331T010000
END:DAYLIGHT
BEGIN:STANDARD
TZOFFSETFROM:+0200
TZOFFSETTO:+0100
TZNAME:CET
DTSTART:20241027T010000
END:STANDARD
END:VTIMEZONE
BEGIN:VEVENT
DTSTART;TZID=Europe/Amsterdam:20240806T100000
DTEND;TZID=Europe/Amsterdam:20240806T140000
DTSTAMP:20260421T113203
CREATED:20240730T133219Z
LAST-MODIFIED:20240730T133219Z
UID:10143-1722938400-1722952800@www.uitinarnhem.nl
SUMMARY:Campingexperience op de Markt
DESCRIPTION:Beleef het ouderwetse campinggevoel. Geniet van een veelzijdig programma met onder andere jeu de boules\, live optredens en testmatten om je valrisico te testen. Speel een potje badminton of geniet van kinderen die bubblevoetbal spelen. Kom op de fiets en test je fietsskills op het fietsparcours van Doortrappen. Tijdens de sportbingo win je fantastische prijzen. En natuurlijk is er heerlijk en gezond eten en drinken. Een dag vol gezelligheid! \nDatum: dinsdag 6 augustus\nTijd: 10.00 – 14.00 uur \nVoor alle leeftijden! Gratis entree. \nDeze zomer bruist het van de sportevenementen en kleurt Nederland oranje! Kom in de zomervakantie naar de Markt en beleef de sport in Arnhem samen. Klik hier voor meer activiteiten op de Markt. \n
URL:https://www.uitinarnhem.nl/agenda/campingexperience-op-de-markt/
LOCATION:Markt\, Markt\, Arnhem\, Nederland
CATEGORIES:Actief,Kindvriendelijk,Sport
ATTACH;FMTTYPE=image/jpeg:https://www.uitinarnhem.nl/wp-content/uploads/2024/07/20240707_Campingxperience_insta.jpg
END:VEVENT
END:VCALENDAR