BEGIN:VCALENDAR
VERSION:2.0
PRODID:-//Uit in Arnhem - ECPv5.0.0.2//NONSGML v1.0//EN
CALSCALE:GREGORIAN
METHOD:PUBLISH
X-WR-CALNAME:Uit in Arnhem
X-ORIGINAL-URL:https://www.uitinarnhem.nl
X-WR-CALDESC:Events for Uit in Arnhem
BEGIN:VTIMEZONE
TZID:Europe/Amsterdam
BEGIN:DAYLIGHT
TZOFFSETFROM:+0100
TZOFFSETTO:+0200
TZNAME:CEST
DTSTART:20240331T010000
END:DAYLIGHT
BEGIN:STANDARD
TZOFFSETFROM:+0200
TZOFFSETTO:+0100
TZNAME:CET
DTSTART:20241027T010000
END:STANDARD
END:VTIMEZONE
BEGIN:VEVENT
DTSTART;TZID=Europe/Amsterdam:20240315T163000
DTEND;TZID=Europe/Amsterdam:20240316T233000
DTSTAMP:20260421T015720
CREATED:20240304T134129Z
LAST-MODIFIED:20240304T134130Z
UID:8167-1710520200-1710631800@www.uitinarnhem.nl
SUMMARY:Café Theater Festival Arnhem
DESCRIPTION:Meer dan 85 korte voorstellingen in Arnhemse cafés tijdens derde editie van Café Theater Festival in Arnhem\nHet Café Theater Festival (CTF) zal in maart 2024 opnieuw horecazaken in Utrecht\, Arnhem en Rotterdam overnemen. Het festival\, dat haar 20-jarige jubileum viert in Utrecht\, zal op  5 en 16 maart voor het derde jaar op rij plaatsvinden in 17 cafés in Arnhem. \nArnhemse cafés\nGedurende twee avonden transformeren Arnhemse cafés tot bruisende podia met een gevarieerd programma aan voorstellingen. Van cabaret tot muziektheater\, en van clubdans tot  queer variété\, geen genre blijft onaangeroerd. De optredens belichten een diversiteit aan thema’s\, variërend van de strijd van underdogs tot het uitmaken van vriendschap\, rouw en falen\, mannelijkheid en queer identiteit. Met een mix van humor\, energie en diepgang is er voor elke theaterliefhebber\, stamgast of toevallige passant iets te beleven. \nElke voorstelling speelt 5 keer verspreid over de twee avonden. Zo komt een groot Arnhems publiek in aanraking met theater op een barkruk\, poëzie vanaf de bar\, musical aan de toog en clubdansers hangend aan de lampen. Naast cafés vanaf het eerste uur als Café Vrijdag\, Nelson en DAVO Bar vindt het CTF dit jaar ook voor eerst plaats in de foyer van het Posttheater en het nieuw te openen queer café De Kurk van het Queer Collective Arnhem. \nDerde Arnhemse editie\nHet Café Theater Festival debuteerde in 2022 in Arnhem met een succesvolle proefeditie in 7 cafés. Sindsdien is het festival uitgegroeid tot een begrip en heeft het zich uitgebreid naar 17 cafés in het centrum\, Sint Marten\, Klarendal en het Spijkerkwartier. Uit meer dan 140 aanmeldingen werd een groep veelbelovende talenten geselecteerd. Zij maakten de afgelopen maanden voorstellingen speciaal ingericht op ‘hun’ CTF-café. Hierin werden ze op meerdere vlakken begeleid door een artistiek team. Het CTF fungeert als een platform  voor opkomende makers\, zoals eerder Kiki Schippers\, Club Lam en Club Gewalt. \nKunst zonder drempels\nVoor het bijwonen van de voorstellingen hoeft het publiek geen kaartje te kopen of te reserveren. Na afloop van de voorstellingen kan het publiek betalen naar draagkracht volgens het betaal-wat-je-kan systeem. De voorstelling met de meeste stemmen van de bezoekers wint de publieksprijs en krijgt daarmee mooie speelplekken in Rotterdam\, Utrecht en op het Hoogte80 Festival in Arnhem van 9 t/m 12 mei. \nCTF Arnhem vindt plaats op vrijdag 15 maart van 16:30 tot 23:30 uur en zaterdag 16 maart van 15:00 tot 23:30 uur\, gevolgd door de publieksprijsuitreiking en afterparty in het Posttheater. \nVoor het volledige programma en de deelnemende cafés kunt u terecht op cafetheaterfestival.nl \n
URL:https://www.uitinarnhem.nl/agenda/cafe-theater-festival-arnhem/
CATEGORIES:Festival,Muziek
ATTACH;FMTTYPE=image/jpeg:https://www.uitinarnhem.nl/wp-content/uploads/2024/03/Collectief-KARMA-@-Cafe-Vrijdag-©-Reinier-van-Olderen06-1024x683-1.jpg
END:VEVENT
END:VCALENDAR