BEGIN:VCALENDAR
VERSION:2.0
PRODID:-//Uit in Arnhem - ECPv5.0.0.2//NONSGML v1.0//EN
CALSCALE:GREGORIAN
METHOD:PUBLISH
X-WR-CALNAME:Uit in Arnhem
X-ORIGINAL-URL:https://www.uitinarnhem.nl
X-WR-CALDESC:Events for Uit in Arnhem
BEGIN:VTIMEZONE
TZID:Europe/Amsterdam
BEGIN:DAYLIGHT
TZOFFSETFROM:+0100
TZOFFSETTO:+0200
TZNAME:CEST
DTSTART:20250330T010000
END:DAYLIGHT
BEGIN:STANDARD
TZOFFSETFROM:+0200
TZOFFSETTO:+0100
TZNAME:CET
DTSTART:20251026T010000
END:STANDARD
END:VTIMEZONE
BEGIN:VEVENT
DTSTART;TZID=Europe/Amsterdam:20250919T203000
DTEND;TZID=Europe/Amsterdam:20250919T220000
DTSTAMP:20260421T003107
CREATED:20250819T173025Z
LAST-MODIFIED:20250819T173025Z
UID:13589-1758313800-1758319200@www.uitinarnhem.nl
SUMMARY:Bridge to Liberation aan de Frostbrug
DESCRIPTION:Op vrijdag 19 september 2025 vormt de Rijnkade in Arnhem\, aan de voet van de iconische John Frostbrug\, het toneel voor Bridge to Liberation. Het wordt een indrukwekkende herdenkingsshow waarin de impact van oorlog en de waarde van vrijheid centraal staan. \nPresentatrice Lisette Wellens gaat samen met Frances Cain op zoek naar het verhaal van haar vader\, Major Robert H. Cain. Hij toonde in 1944 tijdens de Slag om Arnhem uitzonderlijke moed. Deze persoonlijke reis langs betekenisvolle plekken in Arnhem vormt de rode draad van de show\, waarin herinneringen\, emoties en geschiedenis samenkomen. \nHet publiek wordt ondergedompeld in een krachtige mix van muziek\, dans\, verhalen en visuele effecten. Artiesten Emma Heesters\, 3JS\, Janna\, Michael Wilmering en Introdans brengen een eerbetoon aan moed\, hoop en opoffering. Phion\, orkest van Gelderland & Overijssel\, begeleid de artiesten muzikaal. \nVrijdag 19 september 20.30 uur – Rijnkade Arnhem\nLivestream: www.bridgetoliberation.nl\nTelevisie: WNL op NPO 3 & Omroep Gelderland \n
URL:https://www.uitinarnhem.nl/agenda/bridge-to-liberation-aan-de-frostbrug/
LOCATION:Rijnkade\, Rijnkade\, Arnhem\, Nederland
CATEGORIES:Informatief & Verrijking,Muziek,Overig
ATTACH;FMTTYPE=image/jpeg:https://www.uitinarnhem.nl/wp-content/uploads/2025/08/518254204_1067027942261244_8071940414383128733_n.jpg
END:VEVENT
END:VCALENDAR