BEGIN:VCALENDAR
VERSION:2.0
PRODID:-//Uit in Arnhem - ECPv5.0.0.2//NONSGML v1.0//EN
CALSCALE:GREGORIAN
METHOD:PUBLISH
X-WR-CALNAME:Uit in Arnhem
X-ORIGINAL-URL:https://www.uitinarnhem.nl
X-WR-CALDESC:Events for Uit in Arnhem
BEGIN:VTIMEZONE
TZID:Europe/Amsterdam
BEGIN:DAYLIGHT
TZOFFSETFROM:+0100
TZOFFSETTO:+0200
TZNAME:CEST
DTSTART:20250330T010000
END:DAYLIGHT
BEGIN:STANDARD
TZOFFSETFROM:+0200
TZOFFSETTO:+0100
TZNAME:CET
DTSTART:20251026T010000
END:STANDARD
END:VTIMEZONE
BEGIN:VEVENT
DTSTART;TZID=Europe/Amsterdam:20250322T100000
DTEND;TZID=Europe/Amsterdam:20250322T140000
DTSTAMP:20260421T105438
CREATED:20250214T150459Z
LAST-MODIFIED:20250214T152022Z
UID:12443-1742637600-1742652000@www.uitinarnhem.nl
SUMMARY:Bomen voor Arnhem (Noord)
DESCRIPTION:Een boom voor maar € 5\,-! Bomen voor Arnhem-campagne nu in heel Arnhem \nEen boom in je tuin heeft veel voordelen. Bomen zijn goed voor de natuur en het klimaat. Ook kunnen ze privacy\, schaduw\, vruchten en bloesem geven. Daarom krijgen alle Arnhemmers de kans om voor maar € 5\,- een boom te kiezen.\nBestel je boom via http://www.bomenvoorarnhem.nl. Wees er snel bij want op is op. Met de keuzehulp kom je erachter welke boom het beste bij jouw tuin past. \nUitdeelmoment voorjaar 2025\nVoor bewoners van: Arnhem-Noord\, 22 maart 10.00 – 14.00 uur\, Stadsboerderij Presikhaaf \nAls je de boom niet op de voor jou geldende datum en tijd op kunt halen\, dien je te wachten met aanmelden tot een volgende uitdeelronde. \nEerste 500 bomen geplant\nEind 2024 ging de actie van start in vijf Arnhemse wijken. Hier werden ruim 500 bomen uitgedeeld. De deelnemers – van alle leeftijden en achtergronden – waren erg blij met hun aanwinst. Na de succesvolle eerste uitdeelrondes is de campagne nu uitgebreid naar heel Arnhem. \nBomen voor Arnhem is een initiatief van platform Arnhem Klimaatbestendig en gemeente Arnhem. Ga voor meer informatie naar www.bomenvoorarnhem.nl. Voor tips voor het verder vergroenen en klimaatbestendig maken van je huis\, tuin en buurt ga je naar www.arnhemklimaatbestendig.nl. \n
URL:https://www.uitinarnhem.nl/agenda/bomen-voor-arnhem-noord/
LOCATION:Stadsboerderij Presikhaaf\, Ruitenberglaan 4\, Arnhem\, 6826 CC\, Nederland
CATEGORIES:Informatief & Verrijking,Overig
ATTACH;FMTTYPE=image/jpeg:https://www.uitinarnhem.nl/wp-content/uploads/2025/02/Bomen-voor-Arnhem.jpg
END:VEVENT
END:VCALENDAR