BEGIN:VCALENDAR
VERSION:2.0
PRODID:-//Uit in Arnhem - ECPv5.0.0.2//NONSGML v1.0//EN
CALSCALE:GREGORIAN
METHOD:PUBLISH
X-WR-CALNAME:Uit in Arnhem
X-ORIGINAL-URL:https://www.uitinarnhem.nl
X-WR-CALDESC:Events for Uit in Arnhem
BEGIN:VTIMEZONE
TZID:Europe/Amsterdam
BEGIN:DAYLIGHT
TZOFFSETFROM:+0100
TZOFFSETTO:+0200
TZNAME:CEST
DTSTART:20250330T010000
END:DAYLIGHT
BEGIN:STANDARD
TZOFFSETFROM:+0200
TZOFFSETTO:+0100
TZNAME:CET
DTSTART:20251026T010000
END:STANDARD
END:VTIMEZONE
BEGIN:VEVENT
DTSTART;TZID=Europe/Amsterdam:20250316T193000
DTEND;TZID=Europe/Amsterdam:20250316T210000
DTSTAMP:20260421T085326
CREATED:20250225T103536Z
LAST-MODIFIED:20250225T103536Z
UID:12529-1742153400-1742158800@www.uitinarnhem.nl
SUMMARY:Boekenweekprogramma in het Colofon
DESCRIPTION:Het grote geheim onthuld: Gerwin van der Werf is de schrijver van het Boekenweekgeschenk 2025. Zondagavond 16 maart is hij samen met Adriaan van Dis te gast in Het Colofon. Hans Gulpen\, oud-kunstredacteur van de Gelderlander\, zal met beiden in gesprek gaan. Wil je hier bij zijn? Wacht niet te lang met reserveren. \nZondag 16 maart – aanvang 19.30 uur (inloop 19.00 uur) – entree €10  AANMELDEN (reservering verplicht)\n(CJP/Gelrepas en leden Coöperatie Het Colofon UA €5) \nGerwin van der Werf\, de 55-jarige schrijver uit Leiden is met zijn ingezonden verhaal De krater de winnaar van de Boekenweek Novellewedstrijd waar nog 148 andere manuscripten voor werden ingezonden. Het Boekenweekgeschenk is het bekendste onderdeel van de rijke historie van de Boekenweek\, die dit jaar de 90e editie viert. \nDe eenmalige schrijfwedstrijd om tot een Boekenweekgeschenk te komen is georganiseerd ter ere van de jubileumeditie en is geïnspireerd op soortgelijke spraakmakende wedstrijden uit het verleden van de Boekenweek. Een van de bekendste auteurs van een Boekenweekgeschenk dat door een schrijfwedstrijd werd gekozen\, is Hella Haasse. Met Oeroeg brak zij in 1948 door als auteur. \nKijk voor meer informatie op: https://www.hetcolofon.nl/index.php/podium-activiteiten \n
URL:https://www.uitinarnhem.nl/agenda/boekenweekprogramma-in-het-colofon/
LOCATION:Het Colofon\, Bakkerstraat 56\, Arnhem\, 6811 EJ\, Nederland
CATEGORIES:Informatief & Verrijking,Overig
ATTACH;FMTTYPE=image/png:https://www.uitinarnhem.nl/wp-content/uploads/2025/02/BW_liggend-148-x-105-mm.png
END:VEVENT
END:VCALENDAR