BEGIN:VCALENDAR
VERSION:2.0
PRODID:-//Uit in Arnhem - ECPv5.0.0.2//NONSGML v1.0//EN
CALSCALE:GREGORIAN
METHOD:PUBLISH
X-WR-CALNAME:Uit in Arnhem
X-ORIGINAL-URL:https://www.uitinarnhem.nl
X-WR-CALDESC:Events for Uit in Arnhem
BEGIN:VTIMEZONE
TZID:Europe/Amsterdam
BEGIN:DAYLIGHT
TZOFFSETFROM:+0100
TZOFFSETTO:+0200
TZNAME:CEST
DTSTART:20200329T010000
END:DAYLIGHT
BEGIN:STANDARD
TZOFFSETFROM:+0200
TZOFFSETTO:+0100
TZNAME:CET
DTSTART:20201025T010000
END:STANDARD
END:VTIMEZONE
BEGIN:VEVENT
DTSTART;TZID=Europe/Amsterdam:20200628T130000
DTEND;TZID=Europe/Amsterdam:20200628T160000
DTSTAMP:20260421T015656
CREATED:20200616T145658Z
LAST-MODIFIED:20200623T151831Z
UID:5373-1593349200-1593360000@www.uitinarnhem.nl
SUMMARY:Bezoek Kasteel & Park Rosendael
DESCRIPTION:Kasteel Rosendael is weer geopend. Van vrijdag tot en met zondag kunnen bezoekers het kasteel ontdekken tussen 13.00 en 16.00 uur.  \nNieuwe openstelling \nHet kasteel opent met een totaal vernieuwde tour door de keuken en de begane grond van het kasteel. Bezoekers kunnen zelf rondlopen door de vertrekken en ervaren hoe de laatste bewoners op het kasteel hebben geleefd. Met de gratis te downloaden IZI.Travel app krijgt de bezoeker alle informatie over de vertrekken. \nKasteel Rosendael geeft een mooi beeld van hoe er vroeger op een kasteel werd geleefd. Er is een bijzondere collectie meubels\, zilver en porselein te zien. Het imposante\, historisch ingerichte kasteel is omringd door een park met veel bezienswaardigheden. \n Reserveren verplicht \nOm drukte te spreiden moet iedereen vooraf een ticket met een datum en tijd reserveren. Dit kan via de website www.glk.nl/rosendael. Dit garandeert de veiligheid van bezoekers en bovendien geeft het een exclusieve tour\, want men loopt met maximaal 6 personen door het huis! \nPark \nMet de Beleef! plattegrond maakt de bezoeker een wandeling door het park. \nHet park met de Bedriegertjes\, schelpengalerij\, theekoepel\, vijvers en fonteinen trekt zelfs bezoekers vanuit het buitenland. Voor de kinderen is er een leuke speurtocht te verkrijgen in de kasteelwinkel. Het park is geopend van dinsdag tot en met zondag van 11.00 tot 17.00 uur. \nBezoek combi kasteel en park:  van vrijdag t/m zondag tussen 13.00 en 16.00 uur. 11\,50 pp. / kind t/m 18 jaar € 5\,00 (Museumkaart en donateurs GLK gratis) \nReserveren kasteelbezoek: www.glk.nl/rosendael \n
URL:https://www.uitinarnhem.nl/agenda/bezoek-kasteel-park-rosendael/
LOCATION:Kasteel & Park Rosendael\, Rosendael 1\, Rozendaal\, Gelderland\, 6891 DA
CATEGORIES:Actief,Kindvriendelijk,Overig
ATTACH;FMTTYPE=image/jpeg:https://www.uitinarnhem.nl/wp-content/uploads/2020/06/Rosendael-kasteel-exterieur-park-FtB-16-4-e1592318859160.jpg
END:VEVENT
END:VCALENDAR