BEGIN:VCALENDAR
VERSION:2.0
PRODID:-//Uit in Arnhem - ECPv5.0.0.2//NONSGML v1.0//EN
CALSCALE:GREGORIAN
METHOD:PUBLISH
X-WR-CALNAME:Uit in Arnhem
X-ORIGINAL-URL:https://www.uitinarnhem.nl
X-WR-CALDESC:Events for Uit in Arnhem
BEGIN:VTIMEZONE
TZID:Europe/Amsterdam
BEGIN:DAYLIGHT
TZOFFSETFROM:+0100
TZOFFSETTO:+0200
TZNAME:CEST
DTSTART:20250330T010000
END:DAYLIGHT
BEGIN:STANDARD
TZOFFSETFROM:+0200
TZOFFSETTO:+0100
TZNAME:CET
DTSTART:20251026T010000
END:STANDARD
END:VTIMEZONE
BEGIN:VEVENT
DTSTART;TZID=Europe/Amsterdam:20250225T200000
DTEND;TZID=Europe/Amsterdam:20250225T220000
DTSTAMP:20260421T101643
CREATED:20250210T112003Z
LAST-MODIFIED:20250210T112003Z
UID:12421-1740513600-1740520800@www.uitinarnhem.nl
SUMMARY:Benefietconcert Chamber Ensemble Kyiv in de Waalse Kerk
DESCRIPTION:De Oekraïense musici uit het Chamber Ensemble Kyiv\, Mykhailo Bilych (viool) en Andriy Vasin (piano)\, treden op in de Waalse Kerk met violiste Galyna Bilych. Ze voeren werken uit van onder anderen Leclair\, Lysenko en Skoryk. \nSinds drie jaar geven deze musici benefietconcerten in Nederland. Zij haalden geld op voor Giro555\, Hart voor Kinderen en de stichting Netherlands4Ukraine. Zij steunden daarmee van de Oekraïense oorlogsgebieden geëvacueerde weeskinderen\, humanitaire hulpzendingen\, de revalidatie van Oekraïense veteranen in Nederland en vele andere hulpacties voor hun thuisland. \nDe musici ontroeren de luisteraars met hun spel\, er ontstaat verwondering\, troost en connectie. Laat je betoveren door de prachtige klanken van Oekraïense en Franse componisten! \nDeze concerten zijn vrij toegankelijk. Vrijwillige donaties zijn bestemd voor culturele en humanitaire hulp aan Oekraïne. \nVoor meer informatie: https://waalsekerkarnhem.nl/event/benefiet-concert-chamber-ensemble-kyiv/ \n
URL:https://www.uitinarnhem.nl/agenda/benefietconcert-chamber-ensemble-kyiv-in-de-waalse-kerk/
LOCATION:Waalse Kerk\, Gasthuisstraat 1\, Arnhem\, 6811 DZ\, Nederland
CATEGORIES:Muziek
ATTACH;FMTTYPE=image/jpeg:https://www.uitinarnhem.nl/wp-content/uploads/2025/02/Trio-Kyiv-persfoto.jpg
END:VEVENT
END:VCALENDAR