BEGIN:VCALENDAR
VERSION:2.0
PRODID:-//Uit in Arnhem - ECPv5.0.0.2//NONSGML v1.0//EN
CALSCALE:GREGORIAN
METHOD:PUBLISH
X-WR-CALNAME:Uit in Arnhem
X-ORIGINAL-URL:https://www.uitinarnhem.nl
X-WR-CALDESC:Events for Uit in Arnhem
BEGIN:VTIMEZONE
TZID:Europe/Amsterdam
BEGIN:DAYLIGHT
TZOFFSETFROM:+0100
TZOFFSETTO:+0200
TZNAME:CEST
DTSTART:20250330T010000
END:DAYLIGHT
BEGIN:STANDARD
TZOFFSETFROM:+0200
TZOFFSETTO:+0100
TZNAME:CET
DTSTART:20251026T010000
END:STANDARD
END:VTIMEZONE
BEGIN:VEVENT
DTSTART;TZID=Europe/Amsterdam:20250123T193000
DTEND;TZID=Europe/Amsterdam:20250123T220000
DTSTAMP:20260421T072132
CREATED:20241222T174639Z
LAST-MODIFIED:20241222T174639Z
UID:12105-1737660600-1737669600@www.uitinarnhem.nl
SUMMARY:Bandera Latina in Luxor Live
DESCRIPTION:De Arnhemse band Bandera Latina brengt een spetterend programma van wereldmuziek met een verhaal. Van intieme luisterliedjes tot knallende dansmuziek! \nBandera Latina\nHet kruispunt van de Mediterrane en Zuid-Amerikaanse culturen\, dat is het vertrekpunt voor de muzikale reis van Bandera Latina. Een reis die voert door vele landen en die talloze stijlen aandoet. Gitaarvirtuoos en zanger Salvatore Giuseppe Sichi presenteert met de nodige humor\, vertelt het publiek over de achtergronden van de diverse nummers\, over de muziek en meer. Een bijzonder en afwisselend programma met latin\, swing jazz\, rumba flamenca en mediterrane wereldmuziek. \nBandera Latina vierde vorig jaar nog hun 25 jarig jubileum in Luxor Live en bestaat uit Salvatore Giuseppe Sichi (zang\, gitaar\, mandoline\, Cubaanse tres)\, Gerard Baldeo (basgitaar)\, Michiel van Gessel (gitaar)\, Jospeh Fautngiljanan (percussie) en Xander van Veelen (drums). \n
URL:https://www.uitinarnhem.nl/agenda/bandera-latina-in-luxor-live/
LOCATION:Luxor Live\, Willemsplein 10\, Arnhem\, 6811KB\, Nederland
CATEGORIES:Muziek
ATTACH;FMTTYPE=image/jpeg:https://www.uitinarnhem.nl/wp-content/uploads/2024/12/Afbeelding-van-WhatsApp-op-2024-03-21-om-23.59.19_9263e141-1920x630-1.jpg
END:VEVENT
END:VCALENDAR